BEGIN:VCALENDAR
VERSION:2.0
PRODID:-//HasGeek//NONSGML Funnel//EN
DESCRIPTION:An IAPP accredited 2 day training program conducted by Arrka A
 cademy
X-WR-CALDESC:An IAPP accredited 2 day training program conducted by Arrka 
 Academy
NAME:Certified Information Privacy Manager (CIPM) Training
X-WR-CALNAME:Certified Information Privacy Manager (CIPM) Training
REFRESH-INTERVAL;VALUE=DURATION:PT12H
SUMMARY:Certified Information Privacy Manager (CIPM) Training
TIMEZONE-ID:Asia/Kolkata
X-PUBLISHED-TTL:PT12H
X-WR-TIMEZONE:Asia/Kolkata
BEGIN:VEVENT
SUMMARY:Introduction & Objective setting
DTSTART:20210729T040000Z
DTEND:20210729T043000Z
DTSTAMP:20260421T224709Z
UID:session/SugprTWxpfszGrJhHgpVLt@hasgeek.com
SEQUENCE:0
CREATED:20210618T082931Z
LAST-MODIFIED:20210618T082951Z
LOCATION:Online
ORGANIZER;CN=Arrka:MAILTO:no-reply@hasgeek.com
BEGIN:VALARM
ACTION:display
DESCRIPTION:Introduction & Objective setting in 5 minutes
TRIGGER:-PT5M
END:VALARM
END:VEVENT
BEGIN:VEVENT
SUMMARY:Introduction to Data Privacy : General Concepts & Vocabulary
DTSTART:20210729T043000Z
DTEND:20210729T053000Z
DTSTAMP:20260421T224709Z
UID:session/8PpqEKDV5UNiLxzBiPTE95@hasgeek.com
SEQUENCE:0
CREATED:20210618T083013Z
LAST-MODIFIED:20210618T083028Z
LOCATION:Online
ORGANIZER;CN=Arrka:MAILTO:no-reply@hasgeek.com
BEGIN:VALARM
ACTION:display
DESCRIPTION:Introduction to Data Privacy : General Concepts & Vocabulary i
 n 5 minutes
TRIGGER:-PT5M
END:VALARM
END:VEVENT
BEGIN:VEVENT
SUMMARY:Tea  Break
DTSTART:20210729T053000Z
DTEND:20210729T054500Z
DTSTAMP:20260421T224709Z
UID:session/J23jafPzfTrmRRMoY6cn9u@hasgeek.com
SEQUENCE:0
CREATED:20210618T083048Z
LAST-MODIFIED:20210618T083059Z
LOCATION:Online
ORGANIZER;CN=Arrka:MAILTO:no-reply@hasgeek.com
BEGIN:VALARM
ACTION:display
DESCRIPTION:Tea  Break in 5 minutes
TRIGGER:-PT5M
END:VALARM
END:VEVENT
BEGIN:VEVENT
SUMMARY:Introduction to Privacy Program Management
DTSTART:20210729T054500Z
DTEND:20210729T080000Z
DTSTAMP:20260421T224709Z
UID:session/16KbTQ8W6Z5d6oZGTuTemP@hasgeek.com
SEQUENCE:0
CREATED:20210618T083130Z
LAST-MODIFIED:20210618T083157Z
LOCATION:Online
ORGANIZER;CN=Arrka:MAILTO:no-reply@hasgeek.com
BEGIN:VALARM
ACTION:display
DESCRIPTION:Introduction to Privacy Program Management in 5 minutes
TRIGGER:-PT5M
END:VALARM
END:VEVENT
BEGIN:VEVENT
SUMMARY:Lunch Break
DTSTART:20210729T080000Z
DTEND:20210729T084500Z
DTSTAMP:20260421T224709Z
UID:session/36o3r6Ki2RMyw1YR2DkTvX@hasgeek.com
SEQUENCE:0
CREATED:20210618T083222Z
LAST-MODIFIED:20210618T083240Z
LOCATION:Online
ORGANIZER;CN=Arrka:MAILTO:no-reply@hasgeek.com
BEGIN:VALARM
ACTION:display
DESCRIPTION:Lunch Break in 5 minutes
TRIGGER:-PT5M
END:VALARM
END:VEVENT
BEGIN:VEVENT
SUMMARY:Privacy Governance
DTSTART:20210729T084500Z
DTEND:20210729T101500Z
DTSTAMP:20260421T224709Z
UID:session/LMhcEHNsrRfDYAgPpJubc6@hasgeek.com
SEQUENCE:0
CREATED:20210618T083317Z
LAST-MODIFIED:20210618T083357Z
LOCATION:Online
ORGANIZER;CN=Arrka:MAILTO:no-reply@hasgeek.com
BEGIN:VALARM
ACTION:display
DESCRIPTION:Privacy Governance in 5 minutes
TRIGGER:-PT5M
END:VALARM
END:VEVENT
BEGIN:VEVENT
SUMMARY:Tea  Break
DTSTART:20210729T101500Z
DTEND:20210729T103000Z
DTSTAMP:20260421T224709Z
UID:session/RuFxi6aRgLd6XCExt97MTg@hasgeek.com
SEQUENCE:0
CREATED:20210618T083524Z
LAST-MODIFIED:20210618T083529Z
LOCATION:Online
ORGANIZER;CN=Arrka:MAILTO:no-reply@hasgeek.com
BEGIN:VALARM
ACTION:display
DESCRIPTION:Tea  Break in 5 minutes
TRIGGER:-PT5M
END:VALARM
END:VEVENT
BEGIN:VEVENT
SUMMARY:Applicable Laws and Regulations
DTSTART:20210729T103000Z
DTEND:20210729T113000Z
DTSTAMP:20260421T224709Z
UID:session/XnEoo9uSpHssd3uvWierHN@hasgeek.com
SEQUENCE:0
CREATED:20210618T083551Z
LAST-MODIFIED:20210618T083606Z
LOCATION:Online
ORGANIZER;CN=Arrka:MAILTO:no-reply@hasgeek.com
BEGIN:VALARM
ACTION:display
DESCRIPTION:Applicable Laws and Regulations in 5 minutes
TRIGGER:-PT5M
END:VALARM
END:VEVENT
BEGIN:VEVENT
SUMMARY:Training & Awareness
DTSTART:20210729T113000Z
DTEND:20210729T120000Z
DTSTAMP:20260421T224709Z
UID:session/C5PinAyzziQRsKvqbHJHwY@hasgeek.com
SEQUENCE:0
CREATED:20210618T083627Z
LAST-MODIFIED:20210618T083639Z
LOCATION:Online
ORGANIZER;CN=Arrka:MAILTO:no-reply@hasgeek.com
BEGIN:VALARM
ACTION:display
DESCRIPTION:Training & Awareness in 5 minutes
TRIGGER:-PT5M
END:VALARM
END:VEVENT
BEGIN:VEVENT
SUMMARY:Data Assessment
DTSTART:20210730T040000Z
DTEND:20210730T053000Z
DTSTAMP:20260421T224709Z
UID:session/Y8tLmjPkryiB6m24UVvDD1@hasgeek.com
SEQUENCE:0
CREATED:20210618T083807Z
LAST-MODIFIED:20210618T083823Z
LOCATION:Online
ORGANIZER;CN=Arrka:MAILTO:no-reply@hasgeek.com
BEGIN:VALARM
ACTION:display
DESCRIPTION:Data Assessment in 5 minutes
TRIGGER:-PT5M
END:VALARM
END:VEVENT
BEGIN:VEVENT
SUMMARY:Tea  Break
DTSTART:20210730T053000Z
DTEND:20210730T054500Z
DTSTAMP:20260421T224709Z
UID:session/6BGhjPcAZirtCEWN2Y64VY@hasgeek.com
SEQUENCE:0
CREATED:20210618T083848Z
LAST-MODIFIED:20210618T083857Z
LOCATION:Online
ORGANIZER;CN=Arrka:MAILTO:no-reply@hasgeek.com
BEGIN:VALARM
ACTION:display
DESCRIPTION:Tea  Break in 5 minutes
TRIGGER:-PT5M
END:VALARM
END:VEVENT
BEGIN:VEVENT
SUMMARY:Policies
DTSTART:20210730T054500Z
DTEND:20210730T070000Z
DTSTAMP:20260421T224709Z
UID:session/9r4bYCLs7mUCJVNmfUc7QE@hasgeek.com
SEQUENCE:0
CREATED:20210618T083917Z
LAST-MODIFIED:20210618T083930Z
LOCATION:Online
ORGANIZER;CN=Arrka:MAILTO:no-reply@hasgeek.com
BEGIN:VALARM
ACTION:display
DESCRIPTION:Policies in 5 minutes
TRIGGER:-PT5M
END:VALARM
END:VEVENT
BEGIN:VEVENT
SUMMARY:Data Subject Rights
DTSTART:20210730T070000Z
DTEND:20210730T080000Z
DTSTAMP:20260421T224709Z
UID:session/ACzao7zYWqp95mz18dxT8B@hasgeek.com
SEQUENCE:0
CREATED:20210618T083950Z
LAST-MODIFIED:20210618T084006Z
LOCATION:Online
ORGANIZER;CN=Arrka:MAILTO:no-reply@hasgeek.com
BEGIN:VALARM
ACTION:display
DESCRIPTION:Data Subject Rights in 5 minutes
TRIGGER:-PT5M
END:VALARM
END:VEVENT
BEGIN:VEVENT
SUMMARY:Lunch Break
DTSTART:20210730T080000Z
DTEND:20210730T084500Z
DTSTAMP:20260421T224709Z
UID:session/PizC8YvreDoRPWyPS5tt27@hasgeek.com
SEQUENCE:0
CREATED:20210618T084025Z
LAST-MODIFIED:20210618T084032Z
LOCATION:Online
ORGANIZER;CN=Arrka:MAILTO:no-reply@hasgeek.com
BEGIN:VALARM
ACTION:display
DESCRIPTION:Lunch Break in 5 minutes
TRIGGER:-PT5M
END:VALARM
END:VEVENT
BEGIN:VEVENT
SUMMARY:Protecting Personal Information
DTSTART:20210730T084500Z
DTEND:20210730T100000Z
DTSTAMP:20260421T224709Z
UID:session/51tSfaxffDmDA8GaYTCebx@hasgeek.com
SEQUENCE:0
CREATED:20210618T084051Z
LAST-MODIFIED:20210618T084109Z
LOCATION:Online
ORGANIZER;CN=Arrka:MAILTO:no-reply@hasgeek.com
BEGIN:VALARM
ACTION:display
DESCRIPTION:Protecting Personal Information in 5 minutes
TRIGGER:-PT5M
END:VALARM
END:VEVENT
BEGIN:VEVENT
SUMMARY:Data breach incident plans
DTSTART:20210730T100000Z
DTEND:20210730T110000Z
DTSTAMP:20260421T224709Z
UID:session/Rsnuv3UJBpxfpKozhZX7EN@hasgeek.com
SEQUENCE:0
CREATED:20210618T084137Z
LAST-MODIFIED:20210618T084155Z
LOCATION:Online
ORGANIZER;CN=Arrka:MAILTO:no-reply@hasgeek.com
BEGIN:VALARM
ACTION:display
DESCRIPTION:Data breach incident plans in 5 minutes
TRIGGER:-PT5M
END:VALARM
END:VEVENT
BEGIN:VEVENT
SUMMARY:Tea  Break
DTSTART:20210730T110000Z
DTEND:20210730T111500Z
DTSTAMP:20260421T224709Z
UID:session/9AFHy1X2UtELUci5NNJBWq@hasgeek.com
SEQUENCE:0
CREATED:20210618T084212Z
LAST-MODIFIED:20210618T084217Z
LOCATION:Online
ORGANIZER;CN=Arrka:MAILTO:no-reply@hasgeek.com
BEGIN:VALARM
ACTION:display
DESCRIPTION:Tea  Break in 5 minutes
TRIGGER:-PT5M
END:VALARM
END:VEVENT
BEGIN:VEVENT
SUMMARY:Monitoring and auditing program performance
DTSTART:20210730T111500Z
DTEND:20210730T120000Z
DTSTAMP:20260421T224709Z
UID:session/6xzQcLH7xjLW37wKZfvChQ@hasgeek.com
SEQUENCE:0
CREATED:20210618T084234Z
LAST-MODIFIED:20210618T084248Z
LOCATION:Online
ORGANIZER;CN=Arrka:MAILTO:no-reply@hasgeek.com
BEGIN:VALARM
ACTION:display
DESCRIPTION:Monitoring and auditing program performance in 5 minutes
TRIGGER:-PT5M
END:VALARM
END:VEVENT
BEGIN:VEVENT
SUMMARY:Exam Tips
DTSTART:20210730T120000Z
DTEND:20210730T122500Z
DTSTAMP:20260421T224709Z
UID:session/3qAW6YqNMVhNzS7wTjMBqF@hasgeek.com
SEQUENCE:0
CREATED:20210618T083717Z
LAST-MODIFIED:20210618T083724Z
LOCATION:Online
ORGANIZER;CN=Arrka:MAILTO:no-reply@hasgeek.com
BEGIN:VALARM
ACTION:display
DESCRIPTION:Exam Tips in 5 minutes
TRIGGER:-PT5M
END:VALARM
END:VEVENT
END:VCALENDAR
