BEGIN:VCALENDAR
VERSION:2.0
PRODID:-//HasGeek//NONSGML Funnel//EN
DESCRIPTION:Office hours session
X-WR-CALDESC:Office hours session
NAME:Data security consultation with Appsecco - Office hours session
X-WR-CALNAME:Data security consultation with Appsecco - Office hours sessi
 on
REFRESH-INTERVAL;VALUE=DURATION:PT12H
SUMMARY:Data security consultation with Appsecco - Office hours session
TIMEZONE-ID:Asia/Kolkata
X-PUBLISHED-TTL:PT12H
X-WR-TIMEZONE:Asia/Kolkata
BEGIN:VEVENT
SUMMARY:Data security consultation with Appsecco - Office hours session
DTSTART:20200716T103000Z
DTEND:20200716T123000Z
DTSTAMP:20260420T000113Z
UID:session/V5C2augL4tVUVSkaWLV4Z5@hasgeek.com
SEQUENCE:1
CREATED:20200714T112134Z
DESCRIPTION:On 9 July\, Appsecco conducted a session on data security\, lo
 oking at issues of cloud and container security: https://hasgeek.com/rootc
 onf/data-leaks-and-safeguards/\n\nAs a follow-up\, Appsecco offers four sl
 ots of 25 mins each\, consultation sessions on data security. In the offic
 e hours session\, you can talk to Appsecco about:\n\n* General approach fo
 r data security\n* Data security in the cloud\n\nWho should be present in 
 each office hours slot:\n\n1. DevSecOps Team\n2. CTOs\n3. Security Archite
 cts\n
LAST-MODIFIED:20230108T103046Z
LOCATION:Online
ORGANIZER;CN=Appsecco:MAILTO:no-reply@hasgeek.com
BEGIN:VALARM
ACTION:display
DESCRIPTION:Data security consultation with Appsecco - Office hours sessio
 n in 5 minutes
TRIGGER:-PT5M
END:VALARM
END:VEVENT
END:VCALENDAR
