BEGIN:VCALENDAR
VERSION:2.0
PRODID:-//HasGeek//NONSGML Funnel//EN
DESCRIPTION:AMA on Data Security
X-WR-CALDESC:AMA on Data Security
NAME:Data leaks and safeguards - AMA on Data Security
X-WR-CALNAME:Data leaks and safeguards - AMA on Data Security
REFRESH-INTERVAL;VALUE=DURATION:PT12H
SUMMARY:Data leaks and safeguards - AMA on Data Security
TIMEZONE-ID:Asia/Kolkata
X-PUBLISHED-TTL:PT12H
X-WR-TIMEZONE:Asia/Kolkata
BEGIN:VEVENT
SUMMARY:Data leaks and safeguards - AMA on Data Security
DTSTART:20200709T133000Z
DTEND:20200709T145000Z
DTSTAMP:20260420T014904Z
UID:session/RHjzdCNgn1zyX228tCvU2h@hasgeek.com
SEQUENCE:1
CREATED:20200714T111422Z
DESCRIPTION:This session will discuss multiple real-world data breach exam
 ples\, and identify potential root cause for how to prevent similar incide
 nts in the future by adopting data security best practices. Speaker\, Abhi
 sek Datta\, will primarily focus on cloud and container security issues\, 
 relevant for data security.\n\nWho should attend:\n\n1. DevSecOps Team\n2.
  Security Architects\n3. SOC Teams\n4. Security Analysts\n\nParticipation 
 in this session is via Zoom. Link will be shared with registered participa
 nts only. Or\, you can watch the livestream on this page.\n\nLeave questio
 ns ahead of this session on Comments page.\n\nThis talk is followed by an 
 office hours session - a week later - on data security. Details here: http
 s://hasgeek.com/rootconf/data-security-consultation-with-appsecco/\n
LAST-MODIFIED:20230108T103046Z
LOCATION:Online
ORGANIZER;CN=Appsecco:MAILTO:no-reply@hasgeek.com
BEGIN:VALARM
ACTION:display
DESCRIPTION:Data leaks and safeguards - AMA on Data Security in 5 minutes
TRIGGER:-PT5M
END:VALARM
END:VEVENT
END:VCALENDAR
