BEGIN:VCALENDAR
VERSION:2.0
PRODID:-//HasGeek//NONSGML Funnel//EN
DESCRIPTION:A workshop for CXOs\, Founders\, VCs\, Product Teams\, Leaders
  from Engineering\, Sales and HR on "How to make AI work for your Business
 "
X-WR-CALDESC:A workshop for CXOs\, Founders\, VCs\, Product Teams\, Leader
 s from Engineering\, Sales and HR on "How to make AI work for your Busines
 s"
NAME:How To Do AI Right & Get the Intended Business Outcomes
X-WR-CALNAME:How To Do AI Right & Get the Intended Business Outcomes
REFRESH-INTERVAL;VALUE=DURATION:PT12H
SUMMARY:How To Do AI Right & Get the Intended Business Outcomes
TIMEZONE-ID:Asia/Kolkata
X-PUBLISHED-TTL:PT12H
X-WR-TIMEZONE:Asia/Kolkata
BEGIN:VEVENT
SUMMARY:Rules of the workshop + General Info
DTSTART:20230721T043000Z
DTEND:20230721T044500Z
DTSTAMP:20260421T165046Z
UID:session/581xJgNAxQSwBRhZGHCAnH@hasgeek.com
SEQUENCE:1
CREATED:20230509T162906Z
LAST-MODIFIED:20230509T162910Z
LOCATION:Hall 1 and 2 on first floor - Bangalore International Centre (BIC
 )\nBengaluru\nIN
ORGANIZER;CN="Anuj Gupta":MAILTO:no-reply@hasgeek.com
BEGIN:VALARM
ACTION:display
DESCRIPTION:Rules of the workshop + General Info in Hall 1 and 2 on first 
 floor in 5 minutes
TRIGGER:-PT5M
END:VALARM
END:VEVENT
BEGIN:VEVENT
SUMMARY:The Chasm: Why a handful of companies (Google\, MS\, Nvidia\, Byte
 Dance\, Open AI etc) are making big in the AI war and rest all are struggl
 ing big time.
DTSTART:20230721T044500Z
DTEND:20230721T051500Z
DTSTAMP:20260421T165046Z
UID:session/FQiVDbcD6wGzWkmC7PT66R@hasgeek.com
SEQUENCE:1
CREATED:20230509T162925Z
LAST-MODIFIED:20230509T162929Z
LOCATION:Hall 1 and 2 on first floor - Bangalore International Centre (BIC
 )\nBengaluru\nIN
ORGANIZER;CN="Anuj Gupta":MAILTO:no-reply@hasgeek.com
BEGIN:VALARM
ACTION:display
DESCRIPTION:The Chasm: Why a handful of companies (Google\, MS\, Nvidia\, 
 ByteDance\, Open AI etc) are making big in the AI war and rest all are str
 uggling big time. in Hall 1 and 2 on first floor in 5 minutes
TRIGGER:-PT5M
END:VALARM
END:VEVENT
BEGIN:VEVENT
SUMMARY:The three pillars of AI and how they come together to unlock value
  from AI (AI Magic)
DTSTART:20230721T051500Z
DTEND:20230721T060000Z
DTSTAMP:20260421T165046Z
UID:session/TRgswrJwPhbE9Z9SvH7rL6@hasgeek.com
SEQUENCE:5
CREATED:20230509T162943Z
LAST-MODIFIED:20230509T162958Z
LOCATION:Hall 1 and 2 on first floor - Bangalore International Centre (BIC
 )\nBengaluru\nIN
ORGANIZER;CN="Anuj Gupta":MAILTO:no-reply@hasgeek.com
BEGIN:VALARM
ACTION:display
DESCRIPTION:The three pillars of AI and how they come together to unlock v
 alue from AI (AI Magic) in Hall 1 and 2 on first floor in 5 minutes
TRIGGER:-PT5M
END:VALARM
END:VEVENT
BEGIN:VEVENT
SUMMARY:Tea break
DTSTART:20230721T060000Z
DTEND:20230721T061500Z
DTSTAMP:20260421T165046Z
UID:session/NDTZGHnXidP6WG8v73DPVt@hasgeek.com
SEQUENCE:1
CREATED:20230509T163010Z
LAST-MODIFIED:20230509T163012Z
LOCATION:Bengaluru
ORGANIZER;CN="Anuj Gupta":MAILTO:no-reply@hasgeek.com
BEGIN:VALARM
ACTION:display
DESCRIPTION:Tea break in 5 minutes
TRIGGER:-PT5M
END:VALARM
END:VEVENT
BEGIN:VEVENT
SUMMARY:The three pillars of AI and how they come together to unlock value
  from AI (AI Magic) [contd]
DTSTART:20230721T061500Z
DTEND:20230721T064500Z
DTSTAMP:20260421T165046Z
UID:session/Y5zgPTugnt8mirZccQ4Xw4@hasgeek.com
SEQUENCE:1
CREATED:20230509T163032Z
LAST-MODIFIED:20230509T163036Z
LOCATION:Hall 1 and 2 on first floor - Bangalore International Centre (BIC
 )\nBengaluru\nIN
ORGANIZER;CN="Anuj Gupta":MAILTO:no-reply@hasgeek.com
BEGIN:VALARM
ACTION:display
DESCRIPTION:The three pillars of AI and how they come together to unlock v
 alue from AI (AI Magic) [contd] in Hall 1 and 2 on first floor in 5 minute
 s
TRIGGER:-PT5M
END:VALARM
END:VEVENT
BEGIN:VEVENT
SUMMARY:Technology - The First Pillar of AI
DTSTART:20230721T064500Z
DTEND:20230721T073000Z
DTSTAMP:20260421T165046Z
UID:session/REJTqPu2CuaT1LXFC7xXHm@hasgeek.com
SEQUENCE:1
CREATED:20230509T163048Z
LAST-MODIFIED:20230509T163051Z
LOCATION:Hall 1 and 2 on first floor - Bangalore International Centre (BIC
 )\nBengaluru\nIN
ORGANIZER;CN="Anuj Gupta":MAILTO:no-reply@hasgeek.com
BEGIN:VALARM
ACTION:display
DESCRIPTION:Technology - The First Pillar of AI in Hall 1 and 2 on first f
 loor in 5 minutes
TRIGGER:-PT5M
END:VALARM
END:VEVENT
BEGIN:VEVENT
SUMMARY:Lunch break
DTSTART:20230721T073000Z
DTEND:20230721T090000Z
DTSTAMP:20260421T165046Z
UID:session/9h8jqwYdm6j6rwuqzPhLwj@hasgeek.com
SEQUENCE:5
CREATED:20230509T163107Z
LAST-MODIFIED:20230509T163136Z
LOCATION:Bengaluru
ORGANIZER;CN="Anuj Gupta":MAILTO:no-reply@hasgeek.com
BEGIN:VALARM
ACTION:display
DESCRIPTION:Lunch break in 5 minutes
TRIGGER:-PT5M
END:VALARM
END:VEVENT
BEGIN:VEVENT
SUMMARY:Technology - The First Pillar of AI [Contd]
DTSTART:20230721T090000Z
DTEND:20230721T110000Z
DTSTAMP:20260421T165046Z
UID:session/WV898iE88KE8htRraANabC@hasgeek.com
SEQUENCE:4
CREATED:20230509T163154Z
LAST-MODIFIED:20230509T163237Z
LOCATION:Hall 1 and 2 on first floor - Bangalore International Centre (BIC
 )\nBengaluru\nIN
ORGANIZER;CN="Anuj Gupta":MAILTO:no-reply@hasgeek.com
BEGIN:VALARM
ACTION:display
DESCRIPTION:Technology - The First Pillar of AI [Contd] in Hall 1 and 2 on
  first floor in 5 minutes
TRIGGER:-PT5M
END:VALARM
END:VEVENT
BEGIN:VEVENT
SUMMARY:Tea break
DTSTART:20230721T110000Z
DTEND:20230721T111000Z
DTSTAMP:20260421T165046Z
UID:session/4oDEmwvG45MPCQnwypt6JJ@hasgeek.com
SEQUENCE:1
CREATED:20230509T163247Z
LAST-MODIFIED:20230509T163250Z
LOCATION:Bengaluru
ORGANIZER;CN="Anuj Gupta":MAILTO:no-reply@hasgeek.com
BEGIN:VALARM
ACTION:display
DESCRIPTION:Tea break in 5 minutes
TRIGGER:-PT5M
END:VALARM
END:VEVENT
BEGIN:VEVENT
SUMMARY:Q&A session
DTSTART:20230721T111000Z
DTEND:20230721T113000Z
DTSTAMP:20260421T165046Z
UID:session/Urao1yXDEyioCiHwPZ1VxR@hasgeek.com
SEQUENCE:1
CREATED:20230509T163309Z
LAST-MODIFIED:20230509T163312Z
LOCATION:Hall 1 and 2 on first floor - Bangalore International Centre (BIC
 )\nBengaluru\nIN
ORGANIZER;CN="Anuj Gupta":MAILTO:no-reply@hasgeek.com
BEGIN:VALARM
ACTION:display
DESCRIPTION:Q&A session in Hall 1 and 2 on first floor in 5 minutes
TRIGGER:-PT5M
END:VALARM
END:VEVENT
BEGIN:VEVENT
SUMMARY:Processes - The Second Pillar of AI
DTSTART:20230721T113000Z
DTEND:20230721T133000Z
DTSTAMP:20260421T165046Z
UID:session/TLKV4aw6s4pUY5g7d8Ugac@hasgeek.com
SEQUENCE:5
CREATED:20230509T163326Z
LAST-MODIFIED:20230624T033401Z
LOCATION:Hall 1 and 2 on first floor - Bangalore International Centre (BIC
 )\nBengaluru\nIN
ORGANIZER;CN="Anuj Gupta":MAILTO:no-reply@hasgeek.com
BEGIN:VALARM
ACTION:display
DESCRIPTION:Processes - The Second Pillar of AI in Hall 1 and 2 on first f
 loor in 5 minutes
TRIGGER:-PT5M
END:VALARM
END:VEVENT
BEGIN:VEVENT
SUMMARY:Quick recap of Day 1
DTSTART:20230722T040000Z
DTEND:20230722T041500Z
DTSTAMP:20260421T165046Z
UID:session/53n26FeP53Kb5a8oyW1Sve@hasgeek.com
SEQUENCE:1
CREATED:20230509T163419Z
LAST-MODIFIED:20230509T163425Z
LOCATION:Hall 1 and 2 on first floor - Bangalore International Centre (BIC
 )\nBengaluru\nIN
ORGANIZER;CN="Anuj Gupta":MAILTO:no-reply@hasgeek.com
BEGIN:VALARM
ACTION:display
DESCRIPTION:Quick recap of Day 1 in Hall 1 and 2 on first floor in 5 minut
 es
TRIGGER:-PT5M
END:VALARM
END:VEVENT
BEGIN:VEVENT
SUMMARY:Processes - The Second Pillar of AI (Contd)
DTSTART:20230722T041500Z
DTEND:20230722T060000Z
DTSTAMP:20260421T165046Z
UID:session/PhzuxwEE1jdsZTzuykYzzJ@hasgeek.com
SEQUENCE:3
CREATED:20230509T163445Z
LAST-MODIFIED:20230509T163529Z
LOCATION:Hall 1 and 2 on first floor - Bangalore International Centre (BIC
 )\nBengaluru\nIN
ORGANIZER;CN="Anuj Gupta":MAILTO:no-reply@hasgeek.com
BEGIN:VALARM
ACTION:display
DESCRIPTION:Processes - The Second Pillar of AI (Contd) in Hall 1 and 2 on
  first floor in 5 minutes
TRIGGER:-PT5M
END:VALARM
END:VEVENT
BEGIN:VEVENT
SUMMARY:Tea break
DTSTART:20230722T060000Z
DTEND:20230722T061500Z
DTSTAMP:20260421T165046Z
UID:session/VrdjSyDMXZa2bxRNic4JTS@hasgeek.com
SEQUENCE:2
CREATED:20230509T163537Z
LAST-MODIFIED:20230509T163558Z
LOCATION:Bengaluru
ORGANIZER;CN="Anuj Gupta":MAILTO:no-reply@hasgeek.com
BEGIN:VALARM
ACTION:display
DESCRIPTION:Tea break in 5 minutes
TRIGGER:-PT5M
END:VALARM
END:VEVENT
BEGIN:VEVENT
SUMMARY:Q&A session/discussion
DTSTART:20230722T061500Z
DTEND:20230722T073000Z
DTSTAMP:20260421T165046Z
UID:session/KovwgPHsvurQ1Kq9sRec9a@hasgeek.com
SEQUENCE:3
CREATED:20230509T163621Z
LAST-MODIFIED:20230509T163642Z
LOCATION:Hall 1 and 2 on first floor - Bangalore International Centre (BIC
 )\nBengaluru\nIN
ORGANIZER;CN="Anuj Gupta":MAILTO:no-reply@hasgeek.com
BEGIN:VALARM
ACTION:display
DESCRIPTION:Q&A session/discussion in Hall 1 and 2 on first floor in 5 min
 utes
TRIGGER:-PT5M
END:VALARM
END:VEVENT
BEGIN:VEVENT
SUMMARY:Lunch break
DTSTART:20230722T073000Z
DTEND:20230722T090000Z
DTSTAMP:20260421T165046Z
UID:session/8SMPGczWhi5nyrcY4FxaSD@hasgeek.com
SEQUENCE:3
CREATED:20230509T163709Z
LAST-MODIFIED:20230509T163718Z
LOCATION:Bengaluru
ORGANIZER;CN="Anuj Gupta":MAILTO:no-reply@hasgeek.com
BEGIN:VALARM
ACTION:display
DESCRIPTION:Lunch break in 5 minutes
TRIGGER:-PT5M
END:VALARM
END:VEVENT
BEGIN:VEVENT
SUMMARY:People - The Third Pillar of AI
DTSTART:20230722T090000Z
DTEND:20230722T110000Z
DTSTAMP:20260421T165046Z
UID:session/8bGaQR14hmJoxwHYbJFWj@hasgeek.com
SEQUENCE:3
CREATED:20230509T163733Z
LAST-MODIFIED:20230509T163745Z
LOCATION:Hall 1 and 2 on first floor - Bangalore International Centre (BIC
 )\nBengaluru\nIN
ORGANIZER;CN="Anuj Gupta":MAILTO:no-reply@hasgeek.com
BEGIN:VALARM
ACTION:display
DESCRIPTION:People - The Third Pillar of AI in Hall 1 and 2 on first floor
  in 5 minutes
TRIGGER:-PT5M
END:VALARM
END:VEVENT
BEGIN:VEVENT
SUMMARY:Tea break
DTSTART:20230722T110000Z
DTEND:20230722T111000Z
DTSTAMP:20260421T165046Z
UID:session/UMVpRDsQGes7cBct8ApuBT@hasgeek.com
SEQUENCE:1
CREATED:20230509T163806Z
LAST-MODIFIED:20230509T163809Z
LOCATION:Bengaluru
ORGANIZER;CN="Anuj Gupta":MAILTO:no-reply@hasgeek.com
BEGIN:VALARM
ACTION:display
DESCRIPTION:Tea break in 5 minutes
TRIGGER:-PT5M
END:VALARM
END:VEVENT
BEGIN:VEVENT
SUMMARY:People - The Third Pillar of AI [Contd]
DTSTART:20230722T111000Z
DTEND:20230722T113000Z
DTSTAMP:20260421T165046Z
UID:session/8kLcqqSHk6cdm3Zzk1VReA@hasgeek.com
SEQUENCE:1
CREATED:20230509T163815Z
LAST-MODIFIED:20230509T163818Z
LOCATION:Hall 1 and 2 on first floor - Bangalore International Centre (BIC
 )\nBengaluru\nIN
ORGANIZER;CN="Anuj Gupta":MAILTO:no-reply@hasgeek.com
BEGIN:VALARM
ACTION:display
DESCRIPTION:People - The Third Pillar of AI [Contd] in Hall 1 and 2 on fir
 st floor in 5 minutes
TRIGGER:-PT5M
END:VALARM
END:VEVENT
BEGIN:VEVENT
SUMMARY:Bringing the 3 pillars together to unlock and unleash the “AI Ma
 gic”
DTSTART:20230722T113000Z
DTEND:20230722T130000Z
DTSTAMP:20260421T165046Z
UID:session/7fnFeaN2NVNmqzkTMcqkSv@hasgeek.com
SEQUENCE:3
CREATED:20230509T163832Z
LAST-MODIFIED:20230509T163842Z
LOCATION:Hall 1 and 2 on first floor - Bangalore International Centre (BIC
 )\nBengaluru\nIN
ORGANIZER;CN="Anuj Gupta":MAILTO:no-reply@hasgeek.com
BEGIN:VALARM
ACTION:display
DESCRIPTION:Bringing the 3 pillars together to unlock and unleash the “A
 I Magic” in Hall 1 and 2 on first floor in 5 minutes
TRIGGER:-PT5M
END:VALARM
END:VEVENT
BEGIN:VEVENT
SUMMARY:Certificate distribution and valedictory
DTSTART:20230722T130000Z
DTEND:20230722T133000Z
DTSTAMP:20260421T165046Z
UID:session/QNzS7BphfS9FQf1Pp3R675@hasgeek.com
SEQUENCE:2
CREATED:20230509T163944Z
LAST-MODIFIED:20230624T034029Z
LOCATION:Hall 1 and 2 on first floor - Bangalore International Centre (BIC
 )\nBengaluru\nIN
ORGANIZER;CN="Anuj Gupta":MAILTO:no-reply@hasgeek.com
BEGIN:VALARM
ACTION:display
DESCRIPTION:Certificate distribution and valedictory in Hall 1 and 2 on fi
 rst floor in 5 minutes
TRIGGER:-PT5M
END:VALARM
END:VEVENT
END:VCALENDAR
