BEGIN:VCALENDAR
VERSION:2.0
PRODID:-//HasGeek//NONSGML Funnel//EN
DESCRIPTION:A dedicated workshop for ICs\, VPs\, CXOs\, Founders\, VCs tea
 ms\, Leaders from  Product\, Engineering\, Sales and HR on "How to make AI
  work for your Business"
X-WR-CALDESC:A dedicated workshop for ICs\, VPs\, CXOs\, Founders\, VCs te
 ams\, Leaders from  Product\, Engineering\, Sales and HR on "How to make A
 I work for your Business"
NAME:Best Practices to get your organization AI/GenAI ready and derive int
 ended business outcomes"
X-WR-CALNAME:Best Practices to get your organization AI/GenAI ready and de
 rive intended business outcomes"
REFRESH-INTERVAL;VALUE=DURATION:PT12H
SUMMARY:Best Practices to get your organization AI/GenAI ready and derive 
 intended business outcomes"
TIMEZONE-ID:Asia/Kolkata
X-PUBLISHED-TTL:PT12H
X-WR-TIMEZONE:Asia/Kolkata
BEGIN:VEVENT
SUMMARY:Rules of the workshop + General Info
DTSTART:20230902T043000Z
DTEND:20230902T044500Z
DTSTAMP:20260421T165327Z
UID:session/HzdmsbofHRUJjMXYo3VCWb@hasgeek.com
SEQUENCE:2
CREATED:20230622T063606Z
LAST-MODIFIED:20230817T053544Z
LOCATION:Dream 11 office\, BKC [https://g.co/kgs/PuX7T7] - Mumbai\nIN
ORGANIZER;CN="Anuj Gupta":MAILTO:no-reply@hasgeek.com
BEGIN:VALARM
ACTION:display
DESCRIPTION:Rules of the workshop + General Info in Dream 11 office\, BKC 
 [https://g.co/kgs/PuX7T7] in 5 minutes
TRIGGER:-PT5M
END:VALARM
END:VEVENT
BEGIN:VEVENT
SUMMARY:The Chasm: Why a handful of companies (Google\, MS\, Nvidia\, Byte
 Dance\, Open AI etc) are making big in the AI war and rest all are struggl
 ing big time.
DTSTART:20230902T044500Z
DTEND:20230902T051500Z
DTSTAMP:20260421T165327Z
UID:session/LvPjb7SrtC1Ma6vsP5UsiP@hasgeek.com
SEQUENCE:3
CREATED:20230622T065024Z
LAST-MODIFIED:20230817T053848Z
LOCATION:Dream 11 office\, BKC [https://g.co/kgs/PuX7T7] - Mumbai\nIN
ORGANIZER;CN="Anuj Gupta":MAILTO:no-reply@hasgeek.com
BEGIN:VALARM
ACTION:display
DESCRIPTION:The Chasm: Why a handful of companies (Google\, MS\, Nvidia\, 
 ByteDance\, Open AI etc) are making big in the AI war and rest all are str
 uggling big time. in Dream 11 office\, BKC [https://g.co/kgs/PuX7T7] in 5 
 minutes
TRIGGER:-PT5M
END:VALARM
END:VEVENT
BEGIN:VEVENT
SUMMARY:The three pillars of AI and how they come together to unlock value
  from AI (AI Magic)
DTSTART:20230902T051500Z
DTEND:20230902T060000Z
DTSTAMP:20260421T165327Z
UID:session/MoUwSforcFGbfR6PrxpF38@hasgeek.com
SEQUENCE:4
CREATED:20230624T032949Z
LAST-MODIFIED:20230817T053853Z
LOCATION:Dream 11 office\, BKC [https://g.co/kgs/PuX7T7] - Mumbai\nIN
ORGANIZER;CN="Anuj Gupta":MAILTO:no-reply@hasgeek.com
BEGIN:VALARM
ACTION:display
DESCRIPTION:The three pillars of AI and how they come together to unlock v
 alue from AI (AI Magic) in Dream 11 office\, BKC [https://g.co/kgs/PuX7T7]
  in 5 minutes
TRIGGER:-PT5M
END:VALARM
END:VEVENT
BEGIN:VEVENT
SUMMARY:Tea break
DTSTART:20230902T060000Z
DTEND:20230902T061500Z
DTSTAMP:20260421T165327Z
UID:session/MCBDEVPDVCAnUygvH5TSYn@hasgeek.com
SEQUENCE:4
CREATED:20230624T033012Z
LAST-MODIFIED:20230817T053859Z
LOCATION:Dream 11 office\, BKC [https://g.co/kgs/PuX7T7] - Mumbai\nIN
ORGANIZER;CN="Anuj Gupta":MAILTO:no-reply@hasgeek.com
BEGIN:VALARM
ACTION:display
DESCRIPTION:Tea break in Dream 11 office\, BKC [https://g.co/kgs/PuX7T7] i
 n 5 minutes
TRIGGER:-PT5M
END:VALARM
END:VEVENT
BEGIN:VEVENT
SUMMARY:The three pillars of AI and how they come together to unlock value
  from AI (AI Magic) [contd]
DTSTART:20230902T061500Z
DTEND:20230902T064500Z
DTSTAMP:20260421T165327Z
UID:session/LynJMVK8J2JUz2P7hnUPe1@hasgeek.com
SEQUENCE:3
CREATED:20230624T033058Z
LAST-MODIFIED:20230817T053903Z
LOCATION:Dream 11 office\, BKC [https://g.co/kgs/PuX7T7] - Mumbai\nIN
ORGANIZER;CN="Anuj Gupta":MAILTO:no-reply@hasgeek.com
BEGIN:VALARM
ACTION:display
DESCRIPTION:The three pillars of AI and how they come together to unlock v
 alue from AI (AI Magic) [contd] in Dream 11 office\, BKC [https://g.co/kgs
 /PuX7T7] in 5 minutes
TRIGGER:-PT5M
END:VALARM
END:VEVENT
BEGIN:VEVENT
SUMMARY:Technology - The First Pillar of AI
DTSTART:20230902T064500Z
DTEND:20230902T073000Z
DTSTAMP:20260421T165327Z
UID:session/WXBYE3RBCCHh3QT83vWwy@hasgeek.com
SEQUENCE:4
CREATED:20230624T033128Z
LAST-MODIFIED:20230817T053907Z
LOCATION:Dream 11 office\, BKC [https://g.co/kgs/PuX7T7] - Mumbai\nIN
ORGANIZER;CN="Anuj Gupta":MAILTO:no-reply@hasgeek.com
BEGIN:VALARM
ACTION:display
DESCRIPTION:Technology - The First Pillar of AI in Dream 11 office\, BKC [
 https://g.co/kgs/PuX7T7] in 5 minutes
TRIGGER:-PT5M
END:VALARM
END:VEVENT
BEGIN:VEVENT
SUMMARY:Lunch break
DTSTART:20230902T073000Z
DTEND:20230902T081500Z
DTSTAMP:20260421T165327Z
UID:session/PkUnaRT5gukuWjcFD8nZz9@hasgeek.com
SEQUENCE:4
CREATED:20230624T033201Z
LAST-MODIFIED:20230817T053913Z
LOCATION:Dream 11 office\, BKC [https://g.co/kgs/PuX7T7] - Mumbai\nIN
ORGANIZER;CN="Anuj Gupta":MAILTO:no-reply@hasgeek.com
BEGIN:VALARM
ACTION:display
DESCRIPTION:Lunch break in Dream 11 office\, BKC [https://g.co/kgs/PuX7T7]
  in 5 minutes
TRIGGER:-PT5M
END:VALARM
END:VEVENT
BEGIN:VEVENT
SUMMARY:Technology - The First Pillar of AI [Contd]
DTSTART:20230902T081500Z
DTEND:20230902T103000Z
DTSTAMP:20260421T165327Z
UID:session/Ae2W4iMW3AsMmRzsptXZvR@hasgeek.com
SEQUENCE:7
CREATED:20230624T033244Z
LAST-MODIFIED:20230817T053918Z
LOCATION:Dream 11 office\, BKC [https://g.co/kgs/PuX7T7] - Mumbai\nIN
ORGANIZER;CN="Anuj Gupta":MAILTO:no-reply@hasgeek.com
BEGIN:VALARM
ACTION:display
DESCRIPTION:Technology - The First Pillar of AI [Contd] in Dream 11 office
 \, BKC [https://g.co/kgs/PuX7T7] in 5 minutes
TRIGGER:-PT5M
END:VALARM
END:VEVENT
BEGIN:VEVENT
SUMMARY:Tea Break
DTSTART:20230902T103000Z
DTEND:20230902T104000Z
DTSTAMP:20260421T165327Z
UID:session/GjySKk8gtf3mnBxkauYBVe@hasgeek.com
SEQUENCE:3
CREATED:20230624T033333Z
LAST-MODIFIED:20230817T053924Z
LOCATION:Dream 11 office\, BKC [https://g.co/kgs/PuX7T7] - Mumbai\nIN
ORGANIZER;CN="Anuj Gupta":MAILTO:no-reply@hasgeek.com
BEGIN:VALARM
ACTION:display
DESCRIPTION:Tea Break in Dream 11 office\, BKC [https://g.co/kgs/PuX7T7] i
 n 5 minutes
TRIGGER:-PT5M
END:VALARM
END:VEVENT
BEGIN:VEVENT
SUMMARY:QnA
DTSTART:20230902T104000Z
DTEND:20230902T110500Z
DTSTAMP:20260421T165327Z
UID:session/QZhrXGUwCw5MDdaoaESCTF@hasgeek.com
SEQUENCE:3
CREATED:20230624T033345Z
LAST-MODIFIED:20230817T053932Z
LOCATION:Dream 11 office\, BKC [https://g.co/kgs/PuX7T7] - Mumbai\nIN
ORGANIZER;CN="Anuj Gupta":MAILTO:no-reply@hasgeek.com
BEGIN:VALARM
ACTION:display
DESCRIPTION:QnA in Dream 11 office\, BKC [https://g.co/kgs/PuX7T7] in 5 mi
 nutes
TRIGGER:-PT5M
END:VALARM
END:VEVENT
BEGIN:VEVENT
SUMMARY:Processes - The Second Pillar of AI
DTSTART:20230902T110500Z
DTEND:20230902T133000Z
DTSTAMP:20260421T165327Z
UID:session/7GuUsTUNUhfo6GHqVnHnYj@hasgeek.com
SEQUENCE:6
CREATED:20230624T033409Z
LAST-MODIFIED:20230817T053937Z
LOCATION:Dream 11 office\, BKC [https://g.co/kgs/PuX7T7] - Mumbai\nIN
ORGANIZER;CN="Anuj Gupta":MAILTO:no-reply@hasgeek.com
BEGIN:VALARM
ACTION:display
DESCRIPTION:Processes - The Second Pillar of AI in Dream 11 office\, BKC [
 https://g.co/kgs/PuX7T7] in 5 minutes
TRIGGER:-PT5M
END:VALARM
END:VEVENT
BEGIN:VEVENT
SUMMARY:Quick recap of Day 1
DTSTART:20230909T040000Z
DTEND:20230909T042000Z
DTSTAMP:20260421T165327Z
UID:session/FLn8iFzUN8fu1v8Wfn2whd@hasgeek.com
SEQUENCE:11
CREATED:20230624T033452Z
LAST-MODIFIED:20230817T055231Z
LOCATION:Zoom link - Remote - Online\nIN
ORGANIZER;CN="Anuj Gupta":MAILTO:no-reply@hasgeek.com
BEGIN:VALARM
ACTION:display
DESCRIPTION:Quick recap of Day 1 in Zoom link in 5 minutes
TRIGGER:-PT5M
END:VALARM
END:VEVENT
BEGIN:VEVENT
SUMMARY:Processes - The Second Pillar of AI (Contd)
DTSTART:20230909T042000Z
DTEND:20230909T060000Z
DTSTAMP:20260421T165327Z
UID:session/X2mhzRPSyrcPnhXV9ug9U4@hasgeek.com
SEQUENCE:12
CREATED:20230624T033530Z
LAST-MODIFIED:20230817T055233Z
LOCATION:Zoom link - Remote - Online\nIN
ORGANIZER;CN="Anuj Gupta":MAILTO:no-reply@hasgeek.com
BEGIN:VALARM
ACTION:display
DESCRIPTION:Processes - The Second Pillar of AI (Contd) in Zoom link in 5 
 minutes
TRIGGER:-PT5M
END:VALARM
END:VEVENT
BEGIN:VEVENT
SUMMARY:Tea Break
DTSTART:20230909T060000Z
DTEND:20230909T061500Z
DTSTAMP:20260421T165327Z
UID:session/7o7LsSPwJYVvPKixNDgWqi@hasgeek.com
SEQUENCE:8
CREATED:20230624T033625Z
LAST-MODIFIED:20230817T055236Z
LOCATION:Zoom link - Remote - Online\nIN
ORGANIZER;CN="Anuj Gupta":MAILTO:no-reply@hasgeek.com
BEGIN:VALARM
ACTION:display
DESCRIPTION:Tea Break in Zoom link in 5 minutes
TRIGGER:-PT5M
END:VALARM
END:VEVENT
BEGIN:VEVENT
SUMMARY:Q&A session/discussion
DTSTART:20230909T061500Z
DTEND:20230909T064500Z
DTSTAMP:20260421T165327Z
UID:session/2SMNiZ6DqF2ZAFaB2eXEHS@hasgeek.com
SEQUENCE:7
CREATED:20230624T033652Z
LAST-MODIFIED:20230817T055237Z
LOCATION:Zoom link - Remote - Online\nIN
ORGANIZER;CN="Anuj Gupta":MAILTO:no-reply@hasgeek.com
BEGIN:VALARM
ACTION:display
DESCRIPTION:Q&A session/discussion in Zoom link in 5 minutes
TRIGGER:-PT5M
END:VALARM
END:VEVENT
BEGIN:VEVENT
SUMMARY:People - The Third Pillar of AI
DTSTART:20230909T064500Z
DTEND:20230909T073000Z
DTSTAMP:20260421T165327Z
UID:session/KBLh47d7RmnbMNFdfezhvu@hasgeek.com
SEQUENCE:8
CREATED:20230624T033728Z
LAST-MODIFIED:20230817T055238Z
LOCATION:Zoom link - Remote - Online\nIN
ORGANIZER;CN="Anuj Gupta":MAILTO:no-reply@hasgeek.com
BEGIN:VALARM
ACTION:display
DESCRIPTION:People - The Third Pillar of AI in Zoom link in 5 minutes
TRIGGER:-PT5M
END:VALARM
END:VEVENT
BEGIN:VEVENT
SUMMARY:Lunch Break
DTSTART:20230909T073000Z
DTEND:20230909T081500Z
DTSTAMP:20260421T165327Z
UID:session/JT5oxeJHBrkLVSb9pH9Az8@hasgeek.com
SEQUENCE:7
CREATED:20230624T033753Z
LAST-MODIFIED:20230817T055240Z
LOCATION:Mumbai
ORGANIZER;CN="Anuj Gupta":MAILTO:no-reply@hasgeek.com
BEGIN:VALARM
ACTION:display
DESCRIPTION:Lunch Break in 5 minutes
TRIGGER:-PT5M
END:VALARM
END:VEVENT
BEGIN:VEVENT
SUMMARY:People - The Third Pillar of AI [Contd]
DTSTART:20230909T081500Z
DTEND:20230909T093000Z
DTSTAMP:20260421T165327Z
UID:session/DFNE6iCJT6opZpAAeE5cmk@hasgeek.com
SEQUENCE:9
CREATED:20230624T033820Z
LAST-MODIFIED:20230817T055248Z
LOCATION:Zoom link - Remote - Online\nIN
ORGANIZER;CN="Anuj Gupta":MAILTO:no-reply@hasgeek.com
BEGIN:VALARM
ACTION:display
DESCRIPTION:People - The Third Pillar of AI [Contd] in Zoom link in 5 minu
 tes
TRIGGER:-PT5M
END:VALARM
END:VEVENT
BEGIN:VEVENT
SUMMARY:Tea Break
DTSTART:20230909T093000Z
DTEND:20230909T094000Z
DTSTAMP:20260421T165327Z
UID:session/B1v79FHpEvGjZguKKG2b9v@hasgeek.com
SEQUENCE:7
CREATED:20230624T033909Z
LAST-MODIFIED:20230817T055259Z
LOCATION:Zoom link - Remote - Online\nIN
ORGANIZER;CN="Anuj Gupta":MAILTO:no-reply@hasgeek.com
BEGIN:VALARM
ACTION:display
DESCRIPTION:Tea Break in Zoom link in 5 minutes
TRIGGER:-PT5M
END:VALARM
END:VEVENT
BEGIN:VEVENT
SUMMARY:People - The Third Pillar of AI [Contd]
DTSTART:20230909T094000Z
DTEND:20230909T113000Z
DTSTAMP:20260421T165327Z
UID:session/CPHdrTohDkJpDBxPbjKc3n@hasgeek.com
SEQUENCE:15
CREATED:20230624T033921Z
LAST-MODIFIED:20230817T055311Z
LOCATION:Zoom link - Remote - Online\nIN
ORGANIZER;CN="Anuj Gupta":MAILTO:no-reply@hasgeek.com
BEGIN:VALARM
ACTION:display
DESCRIPTION:People - The Third Pillar of AI [Contd] in Zoom link in 5 minu
 tes
TRIGGER:-PT5M
END:VALARM
END:VEVENT
BEGIN:VEVENT
SUMMARY:Bringing the 3 pillars together to unlock and unleash the “AI Ma
 gic”
DTSTART:20230909T113000Z
DTEND:20230909T123000Z
DTSTAMP:20260421T165327Z
UID:session/RviQWPCz1Ftgeep3GHw5g3@hasgeek.com
SEQUENCE:8
CREATED:20230624T034013Z
LAST-MODIFIED:20230817T055329Z
LOCATION:Zoom link - Remote - Online\nIN
ORGANIZER;CN="Anuj Gupta":MAILTO:no-reply@hasgeek.com
BEGIN:VALARM
ACTION:display
DESCRIPTION:Bringing the 3 pillars together to unlock and unleash the “A
 I Magic” in Zoom link in 5 minutes
TRIGGER:-PT5M
END:VALARM
END:VEVENT
BEGIN:VEVENT
SUMMARY:Certificate distribution and valedictory
DTSTART:20230909T123000Z
DTEND:20230909T130000Z
DTSTAMP:20260421T165327Z
UID:session/2bRmZVP62oTt2S28BWGwwa@hasgeek.com
SEQUENCE:7
CREATED:20230624T034038Z
LAST-MODIFIED:20230817T055338Z
LOCATION:Zoom link - Remote - Online\nIN
ORGANIZER;CN="Anuj Gupta":MAILTO:no-reply@hasgeek.com
BEGIN:VALARM
ACTION:display
DESCRIPTION:Certificate distribution and valedictory in Zoom link in 5 min
 utes
TRIGGER:-PT5M
END:VALARM
END:VEVENT
END:VCALENDAR
