BEGIN:VCALENDAR
VERSION:2.0
PRODID:-//HasGeek//NONSGML Funnel//EN
DESCRIPTION:Learn how to build powerful NLP models
X-WR-CALDESC:Learn how to build powerful NLP models
NAME:From word embeddings to contextual word embeddings and Transfer Learn
 ing for NLP
X-WR-CALNAME:From word embeddings to contextual word embeddings and Transf
 er Learning for NLP
REFRESH-INTERVAL;VALUE=DURATION:PT12H
SUMMARY:From word embeddings to contextual word embeddings and Transfer Le
 arning for NLP
TIMEZONE-ID:Asia/Kolkata
X-PUBLISHED-TTL:PT12H
X-WR-TIMEZONE:Asia/Kolkata
BEGIN:VEVENT
SUMMARY:Check-in\; tea/coffee
DTSTART:20191207T040000Z
DTEND:20191207T041500Z
DTSTAMP:20260421T175326Z
UID:session/TnNtN4P5AVtgVgcJ3pw3V@hasgeek.com
SEQUENCE:0
CREATED:20191111T030510Z
DESCRIPTION:\n
GEO:12.9400559;77.6229137
LAST-MODIFIED:20191111T030516Z
LOCATION:Workshop room on 3rd floor - Juspay Technologies Private Limited\
 nBangalore\nIN
ORGANIZER;CN="Anthill Inside":MAILTO:no-reply@hasgeek.com
BEGIN:VALARM
ACTION:display
DESCRIPTION:Check-in\; tea/coffee in Workshop room on 3rd floor in 5 minut
 es
TRIGGER:-PT5M
END:VALARM
END:VEVENT
BEGIN:VEVENT
SUMMARY:Introduction to workshop\; walkthrough of the workshop plan
DTSTART:20191207T041500Z
DTEND:20191207T043000Z
DTSTAMP:20260421T175326Z
UID:session/Ao4QJA4YqRo4TsADqL97ft@hasgeek.com
SEQUENCE:0
CREATED:20191111T030547Z
DESCRIPTION:\n
GEO:12.9400559;77.6229137
LAST-MODIFIED:20191111T030553Z
LOCATION:Workshop room on 3rd floor - Juspay Technologies Private Limited\
 nBangalore\nIN
ORGANIZER;CN="Anthill Inside":MAILTO:no-reply@hasgeek.com
BEGIN:VALARM
ACTION:display
DESCRIPTION:Introduction to workshop\; walkthrough of the workshop plan in
  Workshop room on 3rd floor in 5 minutes
TRIGGER:-PT5M
END:VALARM
END:VEVENT
BEGIN:VEVENT
SUMMARY:Introduction to GloVe embeddings (model\, probing\, hands on)
DTSTART:20191207T043000Z
DTEND:20191207T060000Z
DTSTAMP:20260421T175326Z
UID:session/UMxVj8j4JR6neEJsLiruGN@hasgeek.com
SEQUENCE:0
CREATED:20191111T030601Z
DESCRIPTION:\n
GEO:12.9400559;77.6229137
LAST-MODIFIED:20191111T054031Z
LOCATION:Workshop room on 3rd floor - Juspay Technologies Private Limited\
 nBangalore\nIN
ORGANIZER;CN="Anthill Inside":MAILTO:no-reply@hasgeek.com
BEGIN:VALARM
ACTION:display
DESCRIPTION:Introduction to GloVe embeddings (model\, probing\, hands on) 
 in Workshop room on 3rd floor in 5 minutes
TRIGGER:-PT5M
END:VALARM
END:VEVENT
BEGIN:VEVENT
SUMMARY:Morning beverage break
DTSTART:20191207T060000Z
DTEND:20191207T062500Z
DTSTAMP:20260421T175326Z
UID:session/Ng39dg7fhWnUbiedXVbRqo@hasgeek.com
SEQUENCE:0
CREATED:20191111T030806Z
DESCRIPTION:\n
GEO:12.9400559;77.6229137
LAST-MODIFIED:20191111T030811Z
LOCATION:Workshop room on 3rd floor - Juspay Technologies Private Limited\
 nBangalore\nIN
ORGANIZER;CN="Anthill Inside":MAILTO:no-reply@hasgeek.com
BEGIN:VALARM
ACTION:display
DESCRIPTION:Morning beverage break in Workshop room on 3rd floor in 5 minu
 tes
TRIGGER:-PT5M
END:VALARM
END:VEVENT
BEGIN:VEVENT
SUMMARY:Neural Language Models  -- concepts and hands-on session
DTSTART:20191207T062500Z
DTEND:20191207T073000Z
DTSTAMP:20260421T175326Z
UID:session/98yqkrWPxsQzpWR5Rvu9Y3@hasgeek.com
SEQUENCE:0
CREATED:20191111T030731Z
DESCRIPTION:\n
GEO:12.9400559;77.6229137
LAST-MODIFIED:20191111T054111Z
LOCATION:Workshop room on 3rd floor - Juspay Technologies Private Limited\
 nBangalore\nIN
ORGANIZER;CN="Anthill Inside":MAILTO:no-reply@hasgeek.com
BEGIN:VALARM
ACTION:display
DESCRIPTION:Neural Language Models  -- concepts and hands-on session in Wo
 rkshop room on 3rd floor in 5 minutes
TRIGGER:-PT5M
END:VALARM
END:VEVENT
BEGIN:VEVENT
SUMMARY:Lunch break
DTSTART:20191207T073000Z
DTEND:20191207T081500Z
DTSTAMP:20260421T175326Z
UID:session/LZyvohJ9MgptAwLbKDWtZu@hasgeek.com
SEQUENCE:0
CREATED:20191111T030901Z
DESCRIPTION:\n
LAST-MODIFIED:20191111T054120Z
LOCATION:Bangalore
ORGANIZER;CN="Anthill Inside":MAILTO:no-reply@hasgeek.com
BEGIN:VALARM
ACTION:display
DESCRIPTION:Lunch break in 5 minutes
TRIGGER:-PT5M
END:VALARM
END:VEVENT
BEGIN:VEVENT
SUMMARY:Hands-on session: Attention based models and transformer architect
 ure
DTSTART:20191207T081500Z
DTEND:20191207T100000Z
DTSTAMP:20260421T175326Z
UID:session/SAKhXzFpSEfCiAADnRonga@hasgeek.com
SEQUENCE:0
CREATED:20191111T030921Z
DESCRIPTION:\n
GEO:12.9400559;77.6229137
LAST-MODIFIED:20191111T054202Z
LOCATION:Workshop room on 3rd floor - Juspay Technologies Private Limited\
 nBangalore\nIN
ORGANIZER;CN="Anthill Inside":MAILTO:no-reply@hasgeek.com
BEGIN:VALARM
ACTION:display
DESCRIPTION:Hands-on session: Attention based models and transformer archi
 tecture in Workshop room on 3rd floor in 5 minutes
TRIGGER:-PT5M
END:VALARM
END:VEVENT
BEGIN:VEVENT
SUMMARY:Evening beverage break
DTSTART:20191207T100000Z
DTEND:20191207T102500Z
DTSTAMP:20260421T175326Z
UID:session/F1HZYy5SU33koHZPZ6Kepz@hasgeek.com
SEQUENCE:0
CREATED:20191111T031001Z
DESCRIPTION:\n
LAST-MODIFIED:20191111T054217Z
LOCATION:Bangalore
ORGANIZER;CN="Anthill Inside":MAILTO:no-reply@hasgeek.com
BEGIN:VALARM
ACTION:display
DESCRIPTION:Evening beverage break in 5 minutes
TRIGGER:-PT5M
END:VALARM
END:VEVENT
BEGIN:VEVENT
SUMMARY:Hands-on session: Using Transfer Learning to build a real world ap
 plication
DTSTART:20191207T102500Z
DTEND:20191207T120000Z
DTSTAMP:20260421T175326Z
UID:session/X975oCF6PB4y7RLX3uaDAb@hasgeek.com
SEQUENCE:0
CREATED:20191111T031019Z
DESCRIPTION:\n
GEO:12.9400559;77.6229137
LAST-MODIFIED:20191111T054250Z
LOCATION:Workshop room on 3rd floor - Juspay Technologies Private Limited\
 nBangalore\nIN
ORGANIZER;CN="Anthill Inside":MAILTO:no-reply@hasgeek.com
BEGIN:VALARM
ACTION:display
DESCRIPTION:Hands-on session: Using Transfer Learning to build a real worl
 d application in Workshop room on 3rd floor in 5 minutes
TRIGGER:-PT5M
END:VALARM
END:VEVENT
END:VCALENDAR
