BEGIN:VCALENDAR
VERSION:2.0
PRODID:-//HasGeek//NONSGML Funnel//EN
DESCRIPTION:On agri-fintech usecases and mitigating risks
X-WR-CALDESC:On agri-fintech usecases and mitigating risks
NAME:Transforming Financial Inclusion for Farmers using SpaceTech Analytic
 s
X-WR-CALNAME:Transforming Financial Inclusion for Farmers using SpaceTech 
 Analytics
REFRESH-INTERVAL;VALUE=DURATION:PT12H
SUMMARY:Transforming Financial Inclusion for Farmers using SpaceTech Analy
 tics
TIMEZONE-ID:Asia/Kolkata
X-PUBLISHED-TTL:PT12H
X-WR-TIMEZONE:Asia/Kolkata
BEGIN:VEVENT
SUMMARY:Transforming Financial Inclusion for Farmers using SpaceTech Analy
 tics
DTSTART:20240216T133000Z
DTEND:20240216T143000Z
DTSTAMP:20260421T125439Z
UID:session/NCt4R1uNhV486dpTitWbxe@hasgeek.com
SEQUENCE:17
CREATED:20240213T060010Z
DESCRIPTION:### About the talk\nThe agri-fintech ecosystem represents the 
 convergence of agricultural and financial technologies to address the uniq
 ue challenges faced by farmers and stakeholders in the agricultural value 
 chain. Using AI technologies\, innovative solutions for crop insurance ser
 vices\, mobile payment systems\, supply chain financing\, and data-driven 
 agricultural analytics are being developed\, aimed at enhancing financial 
 access and promoting sustainable practices in agriculture. \n\nIn this ses
 sion\, Raghu will share his experiences of building an agri-fintech soluti
 on\, challenges faced in this ecosystem\, and strategies for mitigating so
 cio-technical risks. \n\n[Rumanu Bhardwaj](https://www.linkedin.com/in/rum
 anu-bhardwaj/) and [Rachna Maheshwari](https://www.linkedin.com/in/rachna-
 m-675b4724/) will moderate the session. Rumanu is a Machine Learning Resea
 rcher at ISB and Rachna works as a Practice Lead in Financial Risk Modelli
 ng with Crisil (S&P Global) in their global risk consulting practice and t
 eaches Quantitative Finance as visiting faculty at institutions in Mumbai.
 \n\n*Have questions for the speaker? [Leave a comment](https://hasgeek.com
 /anthillinside/spacetech-analytics-in-agrifintech/comments).*\n\n### About
  the speaker\n[Raghuchandra KR](https://www.linkedin.com/in/meetraghu/) is
  the co-founder and CTO of AgriFi\, and has specialized in agriculture tec
 hnology for more than 8 years. He has previously contributed to NGOs like 
 Rang De and Precision Agriculture for Development (PxD)\, and organization
 s like Cropin\, where he shaped impactful initiatives.\n\n### RSVP and ven
 ue\nThis session will be held online on the 16th of February from 7 pm - 8
  pm. You can RSVP to participate via Zoom or watch the livestream on YouTu
 be.\n\n### About the AI and Risk Mitigation series\nThis session is part o
 f the AI and Risk Mitigation series which will host meet-ups/talks on agri
 tech\, healthtech\, fintech\, ed-tech\, and public services. The aim of th
 is project is to: \n1. Build a community that will engage in issues of AI 
 security\, privacy\, etc. and best practices to mitigate them.\n2. Develop
  a knowledge repository in the form of practical guidelines and a self-reg
 ulated charter for Ethical AI based on these sessions.\n\n### How you can 
 contribute\n1. Post a comment here to suggest a topic you’d like to disc
 uss. This should involve a brief outline of the use cases and challenges r
 egarding AI implementation.\n2. Moderate/discuss a topic someone else is p
 roposing.\n3. Spread the word among colleagues and friends.\n4. Join The F
 ifth Elephant [Telegram group](https://t.me/fifthel) or [WhatsApp group](h
 ttps://chat.whatsapp.com/KJPmJsMC0MO7r1v9cRdZfu).\n\n### About Anthill Ins
 ide\nAnthill Inside is a community where topics in AI and Deep Learning su
 ch as tools and technologies\, methodologies and strategies for incorporat
 ing AI and Deep Learning into various applications and businesses\, and AI
  engineering are discussed. Furthermore\, Anthill Inside places a strong e
 mphasis on exploring and addressing ethical concerns\, privacy\, and the i
 ssue of bias both in practice and within AI products.\n\n### Contact Infor
 mation\nFollow us on Twitter at [@anthillin](https://twitter.com/anthillin
 ). For queries\, write to editorial@hasgeek.com or call +91-7676332020.
LAST-MODIFIED:20240219T052607Z
LOCATION:Online - https://hasgeek.com/anthillinside/spacetech-analytics-in
 -agrifintech/
ORGANIZER;CN="Anthill Inside":MAILTO:no-reply@hasgeek.com
URL:https://hasgeek.com/anthillinside/spacetech-analytics-in-agrifintech/
BEGIN:VALARM
ACTION:display
DESCRIPTION:Transforming Financial Inclusion for Farmers using SpaceTech A
 nalytics in 5 minutes
TRIGGER:-PT5M
END:VALARM
END:VEVENT
END:VCALENDAR
