BEGIN:VCALENDAR
VERSION:2.0
PRODID:-//HasGeek//NONSGML Funnel//EN
DESCRIPTION:Strategies and best practices for responsible innovation
X-WR-CALDESC:Strategies and best practices for responsible innovation
NAME:Ensuring Safety in the Age of AI-Driven Digital Health
X-WR-CALNAME:Ensuring Safety in the Age of AI-Driven Digital Health
REFRESH-INTERVAL;VALUE=DURATION:PT12H
SUMMARY:Ensuring Safety in the Age of AI-Driven Digital Health
TIMEZONE-ID:Asia/Kolkata
X-PUBLISHED-TTL:PT12H
X-WR-TIMEZONE:Asia/Kolkata
BEGIN:VEVENT
SUMMARY:Ensuring Safety in the Age of AI-Driven Digital Health
DTSTART:20240306T053000Z
DTEND:20240306T063000Z
DTSTAMP:20260424T165037Z
UID:session/7YtG9FVyRnsuMfTqCxCnD9@hasgeek.com
SEQUENCE:9
CREATED:20240228T040120Z
DESCRIPTION:### About the talk\nIn today's rapidly evolving healthcare lan
 dscape\, ensuring the safety and reliability of digital health solutions i
 s paramount. In this fireside chat\, Sharika Varma will delve into the com
 plexities of this critical issue\, exploring best practices\, regulatory c
 onsiderations\, and innovative approaches to maintaining high standards of
  safety in digital health products.\n\nSharika will be joined by [Dr Anand
  Philip](https://www.linkedin.com/in/anandphilip/) and [Dr Hannah Thomas](
 https://www.linkedin.com/in/hannah-mary-thomas-t-838a0113/)\, consulting e
 ditors for this project\, for the discussion. \n\n*Have questions for the 
 speaker? [Leave a comment](https://hasgeek.com/anthillinside/safety-in-dig
 ital-health/comments).*\n\n### About the speaker\n[Sharika Varma](https://
 www.linkedin.com/in/sharika-varma-07a68313/)\, Engineering Manager at Ada 
 Health\, has more than a decade of experience in software engineering and 
 project management. She will share her unique insights from working at Ada
  on ensuring the safety of digital health products.\n### RSVP and venue\nT
 his session will be held online on the 6th of March from 11 am - 12 noon. 
 You can RSVP to participate via Zoom or watch the livestream on YouTube.\n
 \n### About the AI and Risk Mitigation series\nThis session is part of the
  AI and Risk Mitigation series which will host meet-ups/talks on agritech\
 , healthtech\, fintech\, ed-tech\, and public services. The aim of this pr
 oject is to: \n1. Build a community that will engage in issues of AI secur
 ity\, privacy\, etc. and best practices to mitigate them.\n2. Develop a kn
 owledge repository in the form of practical guidelines and a self-regulate
 d charter for Ethical AI based on these sessions.\n\n### How you can contr
 ibute\n1. Post a comment here to suggest a topic you’d like to discuss. 
 This should involve a brief outline of the use cases and challenges regard
 ing AI implementation.\n2. Moderate/discuss a topic someone else is propos
 ing.\n3. Spread the word among colleagues and friends.\n4. Join The Fifth 
 Elephant [Telegram group](https://t.me/fifthel) or [WhatsApp group](https:
 //chat.whatsapp.com/KJPmJsMC0MO7r1v9cRdZfu).\n\n### About Anthill Inside\n
 Anthill Inside is a community where topics in AI and Deep Learning such as
  tools and technologies\, methodologies and strategies for incorporating A
 I and Deep Learning into various applications and businesses\, and AI engi
 neering are discussed. Furthermore\, Anthill Inside places a strong emphas
 is on exploring and addressing ethical concerns\, privacy\, and the issue 
 of bias both in practice and within AI products.\n\n### Contact Informatio
 n\nFollow us on Twitter at [@anthillin](https://twitter.com/anthillin). Fo
 r queries\, write to editorial@hasgeek.com or call +91-7676332020.
LAST-MODIFIED:20240301T085921Z
LOCATION:Online - https://hasgeek.com/anthillinside/safety-in-digital-heal
 th/
ORGANIZER;CN="Anthill Inside":MAILTO:no-reply@hasgeek.com
URL:https://hasgeek.com/anthillinside/safety-in-digital-health/
BEGIN:VALARM
ACTION:display
DESCRIPTION:Ensuring Safety in the Age of AI-Driven Digital Health in 5 mi
 nutes
TRIGGER:-PT5M
END:VALARM
END:VEVENT
END:VCALENDAR
