BEGIN:VCALENDAR
VERSION:2.0
PRODID:-//HasGeek//NONSGML Funnel//EN
DESCRIPTION:Exploring use cases and challenges of Generative AI tools in A
 gritech
X-WR-CALDESC:Exploring use cases and challenges of Generative AI tools in 
 Agritech
NAME:Generative AI in Agritech
X-WR-CALNAME:Generative AI in Agritech
REFRESH-INTERVAL;VALUE=DURATION:PT12H
SUMMARY:Generative AI in Agritech
TIMEZONE-ID:Asia/Kolkata
X-PUBLISHED-TTL:PT12H
X-WR-TIMEZONE:Asia/Kolkata
BEGIN:VEVENT
SUMMARY:Generative AI in Agritech
DTSTART:20231028T053000Z
DTEND:20231028T070000Z
DTSTAMP:20260420T071433Z
UID:session/GmPJ6bSkLRa6sVPg9mMfGW@hasgeek.com
SEQUENCE:19
CREATED:20231021T091222Z
DESCRIPTION:### About the talk\nDr Pratik Desai\, founder of KissanAI\, wi
 ll be discussing the role of Generative AI tools in agritech and challenge
 s pertaining to the same.\n### Key takeaways for the audience\n- Implement
 ing Generative AI tools and technologies in agritech\, in the Indian conte
 xt.\n- Challenges of AI deployment in this sector.\n- Mitigating said chal
 lenges.\n\n*Have questions for the speaker? Leave a [comment](https://hasg
 eek.com/anthillinside/generative-ai-in-agritech/comments).*\n### About the
  speaker\n[Dr Pratik Desai](https://www.linkedin.com/in/pratikkumardesai/)
  is a seasoned computer scientist and entrepreneur with a deep-rooted pass
 ion for leveraging knowledge extraction through AI and Semantic Web techno
 logies. Before venturing into AI applications for Agriculture\, Dr. Desai 
 honed his skills by co-founding three innovative startups in Silicon Valle
 y. These ventures saw him spearhead large-scale data analytics and AI proj
 ects in multidisciplinary arenas including wearable technology\, the Inter
 net of Things (IoT)\, and the automotive industry. Furthermore\, Dr. Desai
  has shared his vast knowledge with budding technologists through his book
  'Python Programming for Arduino'.\n\nAfter this extensive journey across 
 varied domains\, Dr. Desai channeled his experience to establish Titodi In
 fotech. Under this banner\, he introduced the world to KissanAI\, the worl
 d's pioneering multilingual voice-based Generative AI assistant tailored f
 or the agriculture sector. Designed with a keen understanding of the chall
 enges faced by farmers in developing nations\, KissanAI surmounts literacy
  and language obstacles\, ensuring that expert knowledge and data-driven d
 ecision-making are within reach of every farmer. With an impressive track 
 record spanning multiple sectors and technologies\, Dr. Desai stands poise
 d to not only transform the global agricultural industry but also successf
 ully drive any ambitious project to fruition.\n\nFollow him on Twitter at 
 [@chheplo](https://twitter.com/chheplo)\n\n### RSVP and venue\nThis sessio
 n will be held in Bengaluru on the 28th of October from 11 am - 12:30 pm. 
 The venue will be updated shortly. You can also watch the livestream on Yo
 uTube.\n\n### About the AI and Risk Mitigation meet-up series\nThis sessio
 n is part of the AI and Risk Mitigation meet-up series. The meet-ups will 
 cover three domains - health tech\, agritech\, and fintech. The meet-ups w
 ill be held online and offline. \n\n### How you can contribute\n1. Post a 
 comment here to suggest a topic you’d like to discuss. This should invol
 ve a brief outline of the use cases and challenges regarding AI implementa
 tion.\n2. Moderate/discuss a topic someone else is proposing.\n3. [Pick up
  a membership to support the meet-ups and Anthill Inside's activities](htt
 p://has.gy/z_vu). \n4. Spread the word among colleagues and friends. Join 
 The Fifth Elephant [Telegram group](https://t.me/fifthel) or [WhatsApp gro
 up](https://chat.whatsapp.com/KJPmJsMC0MO7r1v9cRdZfu).\n\n### About Anthil
 l Inside\nAnthill Inside is a community where topics in AI and Deep Learni
 ng such as tools and technologies\, methodologies and strategies for incor
 porating AI and Deep Learning into various applications and businesses\, a
 nd AI engineering are discussed. Furthermore\, Anthill Inside places a str
 ong emphasis on exploring and addressing ethical concerns\, privacy\, and 
 the issue of bias both in practice and within AI products.\n\n### Contact\
 nFollow Anthill Inside on Twitter at [@anthillin](https://twitter.com/anth
 illin). \nFor inquiries\, [leave a comment](https://hasgeek.com/anthillins
 ide/generative-ai-in-agritech/comments) or call Anthill Inside at +91-7676
 332020.
LAST-MODIFIED:20231027T123403Z
LOCATION:TBC - https://hasgeek.com/anthillinside/generative-ai-in-agritech
 /
ORGANIZER;CN="Anthill Inside":MAILTO:no-reply@hasgeek.com
URL:https://hasgeek.com/anthillinside/generative-ai-in-agritech/
BEGIN:VALARM
ACTION:display
DESCRIPTION:Generative AI in Agritech in 5 minutes
TRIGGER:-PT5M
END:VALARM
END:VEVENT
END:VCALENDAR
