BEGIN:VCALENDAR
VERSION:2.0
PRODID:-//HasGeek//NONSGML Funnel//EN
DESCRIPTION:Exploring the socio-political impacts of deepfake technology
X-WR-CALDESC:Exploring the socio-political impacts of deepfake technology
NAME:Navigating Deepfakes: Policy Ecosystem and Political Implications
X-WR-CALNAME:Navigating Deepfakes: Policy Ecosystem and Political Implicat
 ions
REFRESH-INTERVAL;VALUE=DURATION:PT12H
SUMMARY:Navigating Deepfakes: Policy Ecosystem and Political Implications
TIMEZONE-ID:Asia/Kolkata
X-PUBLISHED-TTL:PT12H
X-WR-TIMEZONE:Asia/Kolkata
BEGIN:VEVENT
SUMMARY:Navigating Deepfakes: Policy Ecosystem and Political Implications
DTSTART:20240222T133000Z
DTEND:20240222T143000Z
DTSTAMP:20260421T132427Z
UID:session/7EGN3tBuSpX77FzpXjA5Bn@hasgeek.com
SEQUENCE:12
CREATED:20240217T090556Z
DESCRIPTION:### About the talk\nAs the world braces for the largest electi
 on year with over 64 nations heading to the polls\, the influence of artif
 icial intelligence looms large\, poised to make a profound impact. From th
 e proliferation of misinformation to the emergence of deepfakes and the ex
 ploration of positive use cases\, the landscape of political discourse is 
 undergoing a seismic shift. \n\nIn this talk\, [Sagar Vishnoi](https://www
 .linkedin.com/in/sagarvishnoi/) will delve into the transformative role of
  AI\, illustrating how it is fundamentally altering the traditional norms 
 and strategies within the realm of politics. By exploring the spectrum fro
 m malicious manipulation to innovative applications\, Vishnoi will shed li
 ght on the multifaceted ways in which AI is reshaping the very fabric of p
 olitical engagement and governance. Through insightful analysis and compel
 ling examples\, attendees will gain a deeper understanding of the complex 
 interplay between technology\, policy\, and politics in this era of rapid 
 technological advancement.\n\n*Have questions for the speaker? [Leave a co
 mment](https://hasgeek.com/anthillinside/deepfakes-policy-and-politics/com
 ments).*\n\n### About the speaker\n[Sagar Vishnoi](https://www.linkedin.co
 m/in/sagarvishnoi/)\, a seasoned political advisor and AI strategist\, has
  extensive experience in shaping policy and implementing development progr
 ams for multiple Member of Parliaments. With a background in political com
 munications and AI strategy from Columbia B-School and ISB\, Mohali\, he h
 as led strategic war rooms for 10 elections in India\, collaborating with 
 over 130 MLAs\, 10 MPs\, 3 Chief Ministers\, and 3 Presidents. \n\nHe has 
 spoken at over 20 platforms\, including prestigious institutes like IIT an
 d TEDx\, on how Industry 4.0 can disrupt politics\, and has been recognize
 d for his contributions to the social sector with awards such as the Karam
 veer Chakra by iCongo and Global Fellowship instituted by the United Natio
 ns. Additionally\, he is an avid writer on topics including technology\, A
 I\, democracy\, politics\, public policy\, and governance.\n\n### RSVP and
  venue\nThis session will be held online on the 22nd of February from 7 pm
  - 8 pm. You can RSVP to participate via Zoom or watch the livestream on Y
 ouTube.\n\n### About the Deepfakes series\nThis session is part of a 3-par
 t series on Deepfake technologies which will explore socio-political\, tec
 hnical\, and governance aspects of the technology. \n\n### About Anthill I
 nside\nAnthill Inside is a community where topics in AI and Deep Learning 
 such as tools and technologies\, methodologies and strategies for incorpor
 ating AI and Deep Learning into various applications and businesses\, and 
 AI engineering are discussed. Furthermore\, Anthill Inside places a strong
  emphasis on exploring and addressing ethical concerns\, privacy\, and the
  issue of bias both in practice and within AI products.\n\n### How you can
  contribute to Anthill Inside\n1. Post a [talk proposal](https://hasgeek.c
 om/anthillinside/ai-and-risk-mitigation/) to suggest a topic you’d like 
 to discuss. This should involve a brief outline of the use cases and chall
 enges regarding AI implementation.\n2. Moderate/discuss a topic someone el
 se is proposing.\n3. Spread the word among colleagues and friends.\n4. Joi
 n The Fifth Elephant [Telegram group](https://t.me/fifthel) or [WhatsApp g
 roup](https://chat.whatsapp.com/KJPmJsMC0MO7r1v9cRdZfu).\n\n### Contact In
 formation\nFollow us on Twitter at [@anthillin](https://twitter.com/anthil
 lin). For queries\, write to editorial@hasgeek.com or call +91-7676332020.
LAST-MODIFIED:20240319T054803Z
LOCATION:Online - https://hasgeek.com/anthillinside/deepfakes-policy-and-p
 olitics/
ORGANIZER;CN="Anthill Inside":MAILTO:no-reply@hasgeek.com
URL:https://hasgeek.com/anthillinside/deepfakes-policy-and-politics/
BEGIN:VALARM
ACTION:display
DESCRIPTION:Navigating Deepfakes: Policy Ecosystem and Political Implicati
 ons in 5 minutes
TRIGGER:-PT5M
END:VALARM
END:VEVENT
END:VCALENDAR
