BEGIN:VCALENDAR
VERSION:2.0
PRODID:-//HasGeek//NONSGML Funnel//EN
DESCRIPTION:Navigating the impact of AI in Edtech
X-WR-CALDESC:Navigating the impact of AI in Edtech
NAME:AI Usecases and Risk Mitigation in Edtech
X-WR-CALNAME:AI Usecases and Risk Mitigation in Edtech
REFRESH-INTERVAL;VALUE=DURATION:PT12H
SUMMARY:AI Usecases and Risk Mitigation in Edtech
TIMEZONE-ID:Asia/Kolkata
X-PUBLISHED-TTL:PT12H
X-WR-TIMEZONE:Asia/Kolkata
BEGIN:VEVENT
SUMMARY:AI Usecases and Risk Mitigation in Edtech
DTSTART:20240224T060000Z
DTEND:20240224T073000Z
DTSTAMP:20260421T100206Z
UID:session/EiRdxt546SCdUNPQf1ZCno@hasgeek.com
SEQUENCE:13
CREATED:20240219T055616Z
DESCRIPTION:### About the talk\nSunayana and Tanuja will talk about AI use
  cases that revolutionize learning experiences and discuss the risks and c
 aveats inherent in adopting AI technologies in education. \n\n*Have questi
 ons for the speaker? [Leave a comment](https://hasgeek.com/anthillinside/a
 i-and-risk-mitigation-in-edtech/comments).*\n\n### About the speakers\n[Su
 nayana Sitaram](https://www.linkedin.com/in/sunayana/) is a Principal Rese
 archer at Microsoft Research\, India where she works on Natural Language P
 rocessing. Her research interests are broadly in democratizing AI and curr
 ently\, the focus of her work is on making LLMs more inclusive to more lan
 guages and cultures. She is also the Director of the MSR India Research Fe
 llow program and is active in the NLP research community. \n\n[Tanuja Ganu
 ](https://www.linkedin.com/in/tanujabapat/) is a Principal Research SDE Ma
 nager at Microsoft Research\, India. She is currently part of MSR’s new 
 center for Societal impact through Cloud and Artificial Intelligence (SCAI
 ). SCAI focuses on creating\, nurturing and deploying technologies that wi
 ll have large\nscale impact on society. She has previously co-founded Data
 Glen Technologies and worked as a Researcher at IBM Research\, India.\n\nT
 anuja also spoke at The Fifth Elephant Winter Edition on the Shiksha Copil
 ot project at Microsoft Research\, India. Check out the video [here](https
 ://hasgeek.com/fifthelephant/2023-12/sub/shiksha-copilot-HyyGdVu4hj26bgDah
 goHZJ)!\n\n### RSVP and venue\nThis session will be held in-person at IDfy
  Bengaluru on the 24th of February from 11:30 am - 1 pm. You can RSVP to p
 articipate in-person or watch the livestream on YouTube.\n\n### About the 
 AI and Risk Mitigation series\nThis session is part of the AI and Risk Mit
 igation series which will host meet-ups/talks on ed-tech\, agritech\, heal
 thtech\, fintech\, and public services. The aim of this project is to: \n1
 . Build a community that will engage in issues of AI security\, privacy\, 
 etc. and best practices to mitigate them.\n2. Develop a knowledge reposito
 ry in the form of practical guidelines and a self-regulated charter for Et
 hical AI based on these sessions.\n\n### How you can contribute\n1. Post a
  [talk proposal](https://hasgeek.com/anthillinside/ai-and-risk-mitigation/
 ) to suggest a topic you’d like to discuss. This should involve a brief 
 outline of the use cases and challenges regarding AI implementation.\n2. M
 oderate/discuss a topic someone else is proposing.\n3. Spread the word amo
 ng colleagues and friends.\n4. Join The Fifth Elephant [Telegram group](ht
 tps://t.me/fifthel) or [WhatsApp group](https://chat.whatsapp.com/KJPmJsMC
 0MO7r1v9cRdZfu).\n\n### About Anthill Inside\nAnthill Inside is a communit
 y where topics in AI and Deep Learning such as tools and technologies\, me
 thodologies and strategies for incorporating AI and Deep Learning into var
 ious applications and businesses\, and AI engineering are discussed. Furth
 ermore\, Anthill Inside places a strong emphasis on exploring and addressi
 ng ethical concerns\, privacy\, and the issue of bias both in practice and
  within AI products.\n\n### Contact Information\nFollow us on Twitter at [
 @anthillin](https://twitter.com/anthillin). For queries\, write to editori
 al@hasgeek.com or call +91-7676332020.
LAST-MODIFIED:20240223T054018Z
LOCATION:Bengaluru - https://hasgeek.com/anthillinside/ai-and-risk-mitigat
 ion-in-edtech/
ORGANIZER;CN="Anthill Inside":MAILTO:no-reply@hasgeek.com
URL:https://hasgeek.com/anthillinside/ai-and-risk-mitigation-in-edtech/
BEGIN:VALARM
ACTION:display
DESCRIPTION:AI Usecases and Risk Mitigation in Edtech in 5 minutes
TRIGGER:-PT5M
END:VALARM
END:VEVENT
END:VCALENDAR
