BEGIN:VCALENDAR
VERSION:2.0
PRODID:-//HasGeek//NONSGML Funnel//EN
DESCRIPTION:On use cases of knowledge graph and implementation challenges
X-WR-CALDESC:On use cases of knowledge graph and implementation challenges
NAME:Open House: Building Knowledge Graphs
X-WR-CALNAME:Open House: Building Knowledge Graphs
REFRESH-INTERVAL;VALUE=DURATION:PT12H
SUMMARY:Open House: Building Knowledge Graphs
TIMEZONE-ID:Asia/Kolkata
X-PUBLISHED-TTL:PT12H
X-WR-TIMEZONE:Asia/Kolkata
BEGIN:VEVENT
SUMMARY:Tea & Introductions
DTSTART:20190308T120000Z
DTEND:20190308T123000Z
DTSTAMP:20260421T222358Z
UID:session/RDTxHFcvSuaHetV1mVVdXk@hasgeek.com
SEQUENCE:0
CREATED:20190708T120304Z
DESCRIPTION:\n
LAST-MODIFIED:20190708T120306Z
LOCATION:Workshop Room - HasGeek House\nIN
ORGANIZER;CN="Anthill Inside":MAILTO:no-reply@hasgeek.com
BEGIN:VALARM
ACTION:display
DESCRIPTION:Tea & Introductions in Workshop Room in 5 minutes
TRIGGER:-PT5M
END:VALARM
END:VEVENT
BEGIN:VEVENT
SUMMARY:Discussion
DTSTART:20190308T123000Z
DTEND:20190308T140000Z
DTSTAMP:20260421T222358Z
UID:session/HGP6w7uuEnb67NVTEaHnix@hasgeek.com
SEQUENCE:0
CREATED:20190708T120321Z
DESCRIPTION:\n
LAST-MODIFIED:20190708T120335Z
LOCATION:Workshop Room - HasGeek House\nIN
ORGANIZER;CN="Anthill Inside":MAILTO:no-reply@hasgeek.com
BEGIN:VALARM
ACTION:display
DESCRIPTION:Discussion in Workshop Room in 5 minutes
TRIGGER:-PT5M
END:VALARM
END:VEVENT
END:VCALENDAR
