BEGIN:VCALENDAR
VERSION:2.0
PRODID:-//HasGeek//NONSGML Funnel//EN
DESCRIPTION:Possible Workplaces Evolving In India
X-WR-CALDESC:Possible Workplaces Evolving In India
NAME:Speculative Futures & #WorkFromHome
X-WR-CALNAME:Speculative Futures & #WorkFromHome
REFRESH-INTERVAL;VALUE=DURATION:PT12H
SUMMARY:Speculative Futures & #WorkFromHome
TIMEZONE-ID:Asia/Kolkata
X-PUBLISHED-TTL:PT12H
X-WR-TIMEZONE:Asia/Kolkata
BEGIN:VEVENT
SUMMARY:Speculative Futures & #WorkFromHome
DTSTART:20200719T093000Z
DTEND:20200719T102000Z
DTSTAMP:20260419T152405Z
UID:session/KXMtsFihFPE9fuFb7N8h63@hasgeek.com
SEQUENCE:0
CREATED:20200714T194556Z
DESCRIPTION:\n
LAST-MODIFIED:20200726T043045Z
LOCATION:Online
ORGANIZER;CN="a4 . aChaar":MAILTO:no-reply@hasgeek.com
BEGIN:VALARM
ACTION:display
DESCRIPTION:Speculative Futures & #WorkFromHome in 5 minutes
TRIGGER:-PT5M
END:VALARM
END:VEVENT
END:VCALENDAR
