BEGIN:VCALENDAR
VERSION:2.0
PRODID:-//HasGeek//NONSGML Funnel//EN
DESCRIPTION:Demos and Discussion about work being done by Women in AI
X-WR-CALDESC:Demos and Discussion about work being done by Women in AI
NAME:Women in AI - November Meet-Up
X-WR-CALNAME:Women in AI - November Meet-Up
REFRESH-INTERVAL;VALUE=DURATION:PT12H
SUMMARY:Women in AI - November Meet-Up
TIMEZONE-ID:Asia/Kolkata
X-PUBLISHED-TTL:PT12H
X-WR-TIMEZONE:Asia/Kolkata
BEGIN:VEVENT
SUMMARY:Women in AI - November Meet-Up
DTSTART:20231125T093000Z
DTEND:20231125T110000Z
DTSTAMP:20260421T125514Z
UID:session/AwZ7ggLCFTcicPt3uxeiki@hasgeek.com
SEQUENCE:18
CREATED:20231110T063717Z
DESCRIPTION:Hello ladies! \n\nWelcome to the women in AI meet up\, where w
 e 📱demo products\, 🔧share tools and technologies and 👩🏾‍💻
 discuss engineering aspects of AI. This safe space is created for us to ha
 ve 🌟open discussions\, 🌐meet other amazing women\, find mentors and 
 mentees - get more women to join in AI domain. 🌎\n\nAbout the event\nTh
 is would be a hybrid (online + offline meetup (join offline for the best c
 hai :))\nSpeaker names will be revealed soon. Submit a demo request if you
  would like to present. \nOpen to all women - whether you are an AI enthus
 iast\, beginner or advanced!\nPlease click Reigster to join for the meetin
 g. \n\nDate: Saturday\, 25th November\nTime: 03:00 pm - 04:30 pm\n[Venue d
 etails are added here](https://hasgeek.com/WomeninAI/11-2023/updates/how-w
 here-to-meet-YKQuAh4CbwUAPkNmF5phFi).\n\nSessions1: Product Demo by Sneha 
 Vijayan\nThe presentation will focus on how at [resolutio](https://resolut
 io.ai/) we're using emerging tech like AI and blockchain to build the prot
 ection layer of creative economy. It will consider  - \n1. how AI may be u
 sed for both prevention and post dispute resolution\, in this ecosystem\n2
 . special reference to our application of the same\n3. the legal considera
 tions when building AI tools\, especially AI based tools\, and the princip
 les on which we've built ( and are continuing to use) AI.\n\n\n\nSession2:
  Engineering Demo by [Karthika Kamath](https://www.linkedin.com/in/karthik
 a-kamath/)\nHer research is at the intersection of neuroscience and AI. In
  the past she has also worked as a software engineer\, Data scientist and 
 a neuromarketing Consultant and this talk is an introduction to the field 
 of computation neuroscience.\n\nSubmit a description of what you want to d
 emo\, and the feedback you are seeking. It's best to present something you
  have directly worked on OR are working on - not what your team is buildin
 g OR company is doing :)\n\nFor more information\, contact the [Women in A
 I group](https://chat.whatsapp.com/I70EVwILWfI6cnGGn1yrIR) or [leave a com
 ment here](https://hasgeek.com/WomeninAI/11-2023/comments).
LAST-MODIFIED:20231125T034518Z
LOCATION:Bengaluru - https://hasgeek.com/WomeninAI/11-2023/
ORGANIZER;CN="Women in AI":MAILTO:no-reply@hasgeek.com
URL:https://hasgeek.com/WomeninAI/11-2023/
BEGIN:VALARM
ACTION:display
DESCRIPTION:Women in AI - November Meet-Up in 5 minutes
TRIGGER:-PT5M
END:VALARM
END:VEVENT
END:VCALENDAR
