BEGIN:VCALENDAR
VERSION:2.0
PRODID:-//HasGeek//NONSGML Funnel//EN
DESCRIPTION:Want to speak at the VizChitra conference\, but unsure about y
 our topic\, format or afraid of speaking? We’ll help you draft a great p
 roposal.
X-WR-CALDESC:Want to speak at the VizChitra conference\, but unsure about 
 your topic\, format or afraid of speaking? We’ll help you draft a great 
 proposal.
NAME:VizChitra Proposal Jam
X-WR-CALNAME:VizChitra Proposal Jam
REFRESH-INTERVAL;VALUE=DURATION:PT12H
SUMMARY:VizChitra Proposal Jam
TIMEZONE-ID:Asia/Kolkata
X-PUBLISHED-TTL:PT12H
X-WR-TIMEZONE:Asia/Kolkata
BEGIN:VEVENT
SUMMARY:VizChitra Proposal Jam
DTSTART:20250322T053000Z
DTEND:20250322T070000Z
DTSTAMP:20260421T143626Z
UID:session/M1TJwarZ6NLYQ5MowDBFXJ@hasgeek.com
SEQUENCE:14
CREATED:20250315T035345Z
DESCRIPTION:# 💬 VizChitra Proposal Jam 💬\n⬇️⬇️⬇️⬇️
 ⬇️⬇️⬇️⬇️⬇️⬇️⬇️⬇️⬇️⬇️⬇️⬇️
 ⬇️⬇️⬇️⬇️⬇️⬇️\n👋 Link for joining the jam: https
 ://meet.google.com/ppc-kmxn-dpf\n📅 Saturday\, March 22 · 11:00am – 1
 2:30pm (IST)\n\n### Got a data story to tell? An idea brewing? A dataviz p
 roject you’d love to showcase? 🙋📈 \nThe stage is set for [**VizChi
 tra 2025**](https://hasgeek.com/VizChitra/2025/)\, and we’re looking for
  exciting submissions! \nThe conference is set to take place on **June 27-
 28 in Bangalore**\, and [Call for Proposals is open](https://hasgeek.com/V
 izChitra/2025/sub) until **April 15.** \n\nTo help you craft a strong prop
 osal\, or address any queries around submissions\, we’re hosting a propo
 sal jam! \n\nWhether you're a designer\, journalist\, analyst\, coder\, or
  artist\, this is your chance to: \n🗣 **Understand** different kind of 
 talks & workshops\n💡 **Learn** what makes a compelling proposal\n❓ **
 Ask** all your CFP-related questions\n🛠 **Refine** your submission idea
 s\n🤝 **Connect** with fellow dataviz enthusiasts\n\nNo matter where you
  are in your journey\, whether you have a fully-formed idea or just a spar
 k of curiosity\, this is the space to explore\, experiment\, and get inspi
 red.\n\n📅 **When**: Saturday\, March 22\, 2025\, 11 AM–12:30 PM (IST)
 \n🔗 **Where**: Online\n🎙 **Hosts**: Amit Kapoor\, Anand Katakam\, Su
 rbhi Bhatia\, Swathi Singh\n\nCome ready to brainstorm\, share\, and shape
  your VizChitra submission! 🚀
LAST-MODIFIED:20250526T184849Z
LOCATION:Online - https://hasgeek.com/VizChitra/proposal-jam/
ORGANIZER;CN=VizChitra:MAILTO:no-reply@hasgeek.com
URL:https://hasgeek.com/VizChitra/proposal-jam/
BEGIN:VALARM
ACTION:display
DESCRIPTION:VizChitra Proposal Jam in 5 minutes
TRIGGER:-PT5M
END:VALARM
END:VEVENT
END:VCALENDAR
