BEGIN:VCALENDAR
VERSION:2.0
PRODID:-//HasGeek//NONSGML Funnel//EN
DESCRIPTION:Join us as at VizChitra and connect with the data viz communit
 y in India
X-WR-CALDESC:Join us as at VizChitra and connect with the data viz communi
 ty in India
NAME:VizChitra Launch Party
X-WR-CALNAME:VizChitra Launch Party
REFRESH-INTERVAL;VALUE=DURATION:PT12H
SUMMARY:VizChitra Launch Party
TIMEZONE-ID:Asia/Kolkata
X-PUBLISHED-TTL:PT12H
X-WR-TIMEZONE:Asia/Kolkata
BEGIN:VEVENT
SUMMARY:VizChitra Launch Party
DTSTART:20250221T113000Z
DTEND:20250221T123000Z
DTSTAMP:20260419T102724Z
UID:session/NdyRHVVh2YCrQtJnQ7um9a@hasgeek.com
SEQUENCE:17
CREATED:20250215T100857Z
DESCRIPTION:# 🎉 VizChitra Launch Party 🎉  \n\n## Are you a data visu
 alizer?  \n### 📊 data storyteller? 📉  \n###  📈 working to be one?
  📊  \n### 📉 wanting to be one? 📈  \n\n**VizChitra** is a vibrant\
 , inclusive community of data storytellers based in India\, where data lit
 eracy and visualization practices are still emerging. We bring together cr
 eative minds—**designers\, programmers\, analysts\, educators\, artists\
 , and storytellers**—to transform raw data into human-centered narrative
 s.  \n\n### **__Who should join?__** \nJoin us at our first community even
 t at **VizChitra**—a space to connect and create with data. We're hostin
 g our first virtual hang out and we want to hear from folks working across
  the data spectrum. An inclusive community space that welcomes all talents
 \, skills\, interests\, and motivations. So bring your favorite chart and 
 get ready to chat!  \n\n### 🗣 We will discuss:  \n- ❓ **Who are we?**
   \n- 🤝 **Why should we build a community?**  \n\n### 💡 Share with u
 s:  \n- 🔗 **How can we support each other's journey** as data enthusias
 ts and visualizers?  \n- 🚀 **What should we aspire to learn\, share\, c
 reate\, and do?**  \n\nPeople with all kinds of talents and backgrounds wi
 th interests in **Data visualization** and **Data storytelling** are welco
 me!  \n### **__When and where to join?__**  \n📅 **When:** Feb 21\, 2025
 \, 5:00 PM  \n🔗 **Where:** Online\n🎙 **Hosts:** Rasagy Sharma and Gu
 rman Bhatia  
LAST-MODIFIED:20250527T223700Z
LOCATION:Online - https://hasgeek.com/VizChitra/launch-party/
ORGANIZER;CN=VizChitra:MAILTO:no-reply@hasgeek.com
URL:https://hasgeek.com/VizChitra/launch-party/
BEGIN:VALARM
ACTION:display
DESCRIPTION:VizChitra Launch Party in 5 minutes
TRIGGER:-PT5M
END:VALARM
END:VEVENT
END:VCALENDAR
