BEGIN:VCALENDAR
VERSION:2.0
PRODID:-//HasGeek//NONSGML Funnel//EN
DESCRIPTION:test
X-WR-CALDESC:test
NAME:Test 1010
X-WR-CALNAME:Test 1010
REFRESH-INTERVAL;VALUE=DURATION:PT12H
SUMMARY:Test 1010
TIMEZONE-ID:Asia/Kolkata
X-PUBLISHED-TTL:PT12H
X-WR-TIMEZONE:Asia/Kolkata
BEGIN:VEVENT
SUMMARY:Test 1010
DTSTART:20250430T073900Z
DTEND:20250508T074000Z
DTSTAMP:20260419T170118Z
UID:session/4TYsvjVTKiauyYdqJAyoKu@hasgeek.com
SEQUENCE:4
CREATED:20250123T074654Z
DESCRIPTION:### Test title\n\n>blockquote test\n>blockquote test\n>
LAST-MODIFIED:20250123T074712Z
LOCATION:online - https://hasgeek.com/Test101/test-1010/
ORGANIZER;CN=Test10:MAILTO:no-reply@hasgeek.com
URL:https://hasgeek.com/Test101/test-1010/
BEGIN:VALARM
ACTION:display
DESCRIPTION:Test 1010 in 5 minutes
TRIGGER:-PT5M
END:VALARM
END:VEVENT
END:VCALENDAR
