BEGIN:VCALENDAR
VERSION:2.0
PRODID:-//HasGeek//NONSGML Funnel//EN
DESCRIPTION:Approaches to Personal Data Protection
X-WR-CALDESC:Approaches to Personal Data Protection
NAME:An Introduction to Lean Data Practices (LDP)
X-WR-CALNAME:An Introduction to Lean Data Practices (LDP)
REFRESH-INTERVAL;VALUE=DURATION:PT12H
SUMMARY:An Introduction to Lean Data Practices (LDP)
TIMEZONE-ID:Asia/Kolkata
X-PUBLISHED-TTL:PT12H
X-WR-TIMEZONE:Asia/Kolkata
BEGIN:VEVENT
SUMMARY:An Introduction to Lean Data Practices (LDP)
DTSTART:20201113T133000Z
DTEND:20201113T150500Z
DTSTAMP:20260421T111702Z
UID:session/QNg8JKirQCmLFekvKU2osp@hasgeek.com
SEQUENCE:2
CREATED:20201108T075113Z
DESCRIPTION:Target Audience:  Public lecture - developers\, academics\, me
 dia\, etc.\nThere will be a pre-recorded video focused on LDP as both a st
 rategic and operational\, program model for data management.  Attendees sh
 ould be able to identify practical ways these methods and tools can help t
 hem in their own privacy operations programs. \nThere will also be a separ
 ate live Q & A session where attendees can ask questions about LDP specifi
 cally or data privacy operations in general.  \n\nSlides for this talk are
  published on: https://docs.google.com/presentation/d/1F7fex9xIok_9QtoAL6u
 QLX6sqTBrMFnb08yR82_bQV0/edit#slide=id.g5686e3472e_0_5\n\n### Speaker bio\
 n\nBio:  Alicia Gray is the Senior Manager for Trust & Privacy at Mozilla.
   She is responsible for privacy program strategy\, development and implem
 entation including developing internal policies and procedures\, data subj
 ect access requests\, vendor reviews\, data inventory and other privacy ac
 tivities designed to support Mozilla's privacy principles and legal obliga
 tions.  The privacy and trust team supports all data collection touch poin
 ts ranging from users\, to our community members to our employees.\n
LAST-MODIFIED:20230810T072606Z
LOCATION:Online
ORGANIZER;CN="Privacy Mode":MAILTO:no-reply@hasgeek.com
URL:https://hasgeek.com/PrivacyMode/lean-data-practices/schedule/lean-data
 -practices-QNg8JKirQCmLFekvKU2osp
BEGIN:VALARM
ACTION:display
DESCRIPTION:An Introduction to Lean Data Practices (LDP) in 5 minutes
TRIGGER:-PT5M
END:VALARM
END:VEVENT
END:VCALENDAR
