BEGIN:VCALENDAR
VERSION:2.0
PRODID:-//HasGeek//NONSGML Funnel//EN
DESCRIPTION:Understanding impact
X-WR-CALDESC:Understanding impact
NAME:Information Technology - Guidelines For Intermediaries and Digital Me
 dia Ethics Code - Rules\, 2021
X-WR-CALNAME:Information Technology - Guidelines For Intermediaries and Di
 gital Media Ethics Code - Rules\, 2021
REFRESH-INTERVAL;VALUE=DURATION:PT12H
SUMMARY:Information Technology - Guidelines For Intermediaries and Digital
  Media Ethics Code - Rules\, 2021
TIMEZONE-ID:Asia/Kolkata
X-PUBLISHED-TTL:PT12H
X-WR-TIMEZONE:Asia/Kolkata
BEGIN:VEVENT
SUMMARY:Introductions and context for the PyDelhi Meetup
DTSTART:20210703T103000Z
DTEND:20210703T104500Z
DTSTAMP:20260419T171354Z
UID:session/vDDfSK9ynw3AbieNjtW5g@hasgeek.com
SEQUENCE:0
CREATED:20210701T045730Z
LAST-MODIFIED:20210701T045737Z
LOCATION:Online
ORGANIZER;CN="Privacy Mode":MAILTO:no-reply@hasgeek.com
BEGIN:VALARM
ACTION:display
DESCRIPTION:Introductions and context for the PyDelhi Meetup in 5 minutes
TRIGGER:-PT5M
END:VALARM
END:VEVENT
BEGIN:VEVENT
SUMMARY:IT Rules 2021: law\, legalese and impact on open source communitie
 s
DTSTART:20210703T104500Z
DTEND:20210703T114500Z
DTSTAMP:20260419T171354Z
UID:session/386HPqoGaoaUCEoWFfNXBs@hasgeek.com
SEQUENCE:1
CATEGORIES:IT Rules 2021 Report: Annexure
CREATED:20210701T045447Z
DESCRIPTION:The Government of India (GoI)\, Ministry of Electronics and In
 formation Technology (MEITY)\, and the Ministry of Information and Broadca
 sting (MIB) jointly released the new IT Rules 2021\, with significant impa
 ct on Intermediaries. The new rules impact OTT and digital media streaming
  services\, online news outlets\, social media and platforms\, messaging s
 ervices\, among others. The new rules are available on the Gazette of Indi
 a website - http://egazette.nic.in/WriteReadData/2021/225464.pdf\n\nIn thi
 s session\, we will go over:\n\n1. The brief history and background to the
  IT Rules. \n2. Provisions of the IT Rules which impact developers and ope
 n source communities. \n3. Current legal challenges to IT Rules\; and what
  open source communities can learn from these challenges. \n4. Q&A - to an
 swer your questions and doubts about how the IT Rules may impact your work
 . \n\nFor a detailed background tot this session\, read [Privacy Mode's et
 hnographic report on IT Rules](https://hasgeek.com/PrivacyMode/it-rules-il
 -guidelines-2021/sub/it-rules-2021-intermediary-guidelines-concerns-and-7s
 wxnPZrCPooJUdLPPqz2u).\n\nUdbhav Tiwari is Public Policy Advisor at Mozill
 a. 
LAST-MODIFIED:20230108T103046Z
LOCATION:Online
ORGANIZER;CN="Privacy Mode":MAILTO:no-reply@hasgeek.com
URL:https://hasgeek.com/PrivacyMode/it-rules-2021/schedule/it-rules-2021-l
 aw-legalese-and-impact-on-open-source-communities-386HPqoGaoaUCEoWFfNXBs
BEGIN:VALARM
ACTION:display
DESCRIPTION:IT Rules 2021: law\, legalese and impact on open source commun
 ities in 5 minutes
TRIGGER:-PT5M
END:VALARM
END:VEVENT
BEGIN:VEVENT
SUMMARY:Networking and discussions
DTSTART:20210703T114500Z
DTEND:20210703T123000Z
DTSTAMP:20260419T171354Z
UID:session/JgtUfEpaPEU3F7kETcztbj@hasgeek.com
SEQUENCE:0
CREATED:20210701T045959Z
LAST-MODIFIED:20210701T154254Z
LOCATION:Online
ORGANIZER;CN="Privacy Mode":MAILTO:no-reply@hasgeek.com
BEGIN:VALARM
ACTION:display
DESCRIPTION:Networking and discussions in 5 minutes
TRIGGER:-PT5M
END:VALARM
END:VEVENT
BEGIN:VEVENT
SUMMARY:Twitter spaces on IT Rules 2021
DTSTART:20211028T133000Z
DTEND:20211028T143000Z
DTSTAMP:20260419T171354Z
UID:session/QUAGSfpx23vxQzDETk8tqv@hasgeek.com
SEQUENCE:1
CREATED:20211029T090433Z
DESCRIPTION:Launch of the research report on IT Rules 2021
LAST-MODIFIED:20230108T103046Z
LOCATION:Online
ORGANIZER;CN="Privacy Mode":MAILTO:no-reply@hasgeek.com
BEGIN:VALARM
ACTION:display
DESCRIPTION:Twitter spaces on IT Rules 2021 in 5 minutes
TRIGGER:-PT5M
END:VALARM
END:VEVENT
END:VCALENDAR
