BEGIN:VCALENDAR
VERSION:2.0
PRODID:-//HasGeek//NONSGML Funnel//EN
DESCRIPTION:PrivacyMode Workshops
X-WR-CALDESC:PrivacyMode Workshops
NAME:Investigating Political Ads Datasets
X-WR-CALNAME:Investigating Political Ads Datasets
REFRESH-INTERVAL;VALUE=DURATION:PT12H
SUMMARY:Investigating Political Ads Datasets
TIMEZONE-ID:Asia/Kolkata
X-PUBLISHED-TTL:PT12H
X-WR-TIMEZONE:Asia/Kolkata
BEGIN:VEVENT
SUMMARY:Investigating Political Ads Datasets
DTSTART:20201023T103000Z
DTEND:20201023T103500Z
DTSTAMP:20260419T170650Z
UID:session/X7m3xrrZWoqKuNoEbm5gRc@hasgeek.com
SEQUENCE:2
CREATED:20201008T040247Z
DESCRIPTION:1. Context needed to understand political advertising data: qu
 ick background of how self-regulatory efforts of "political ads transparen
 cy" emerged in the aftermath of reports of election interference etc.\n2. 
 Working with a deceiving dataset: understanding the parameters of data\, d
 ifferent ways of collection possible and the limits of such datasets\n3. A
 long with participants\, pick up one or more of the following questions (o
 r a question that participants contribute):\n- Finding ads violating silen
 ce periods\n- Comparing the ad spends of the biggest corporate polluters a
 gainst their investments\n- Calculating ad expenditure for the previous we
 ek by ads created and ads seen\n\n### Speaker bio\n\nNayantara Ranganathan
  is a lawyer and researcher studying the politics and culture of digital t
 echnologies. She worked at the Internet Democracy Project where she worked
  on applying feminist methods of research and practice to questions of dat
 a governance. She co-founded Persuasion Lab\, a project exploring new form
 s of political propaganda on social media.\n\nManuel Beltrán is an artist
  and activist. xIn 2015 he founded the Institute of Human Obsolescence\, t
 hrough which he explores the future of labor\, the social and political im
 plications of our relationship with technology\, and the economic and gove
 rnance systems surrounding the production of data. He is also the co-found
 er of the Persuasion Lab\, a project exploring new forms of political prop
 aganda on social media\, that also hosts a parallel archive of political a
 ds data across major Big Tech platforms.\n
LAST-MODIFIED:20230810T072606Z
LOCATION:Online
ORGANIZER;CN="Privacy Mode":MAILTO:no-reply@hasgeek.com
URL:https://hasgeek.com/PrivacyMode/investigating-political-ads-datasets/s
 chedule/investigating-political-ads-datasets-X7m3xrrZWoqKuNoEbm5gRc
BEGIN:VALARM
ACTION:display
DESCRIPTION:Investigating Political Ads Datasets in 5 minutes
TRIGGER:-PT5M
END:VALARM
END:VEVENT
BEGIN:VEVENT
SUMMARY:Context for political advertising data
DTSTART:20201023T103500Z
DTEND:20201023T110500Z
DTSTAMP:20260419T170650Z
UID:session/BbHcFBB8AJTkuFcgfWyGjk@hasgeek.com
SEQUENCE:1
CREATED:20201008T035934Z
DESCRIPTION:Context needed to understand political advertising data: quick
  background of how self-regulatory efforts of “political ads transparenc
 y” emerged in the aftermath of reports of election interference etc.\n
LAST-MODIFIED:20230108T103046Z
LOCATION:Online
ORGANIZER;CN="Privacy Mode":MAILTO:no-reply@hasgeek.com
BEGIN:VALARM
ACTION:display
DESCRIPTION:Context for political advertising data in 5 minutes
TRIGGER:-PT5M
END:VALARM
END:VEVENT
BEGIN:VEVENT
SUMMARY:Working with a deceiving dataset
DTSTART:20201023T110500Z
DTEND:20201023T113000Z
DTSTAMP:20260419T170650Z
UID:session/4VMpmMQwPstcjNZSM9qy7x@hasgeek.com
SEQUENCE:1
CREATED:20201008T040000Z
DESCRIPTION:Working with a deceiving dataset: understanding the parameters
  of data\, different ways of collection possible and the limits of such da
 tasets\n
LAST-MODIFIED:20230108T103046Z
LOCATION:Online
ORGANIZER;CN="Privacy Mode":MAILTO:no-reply@hasgeek.com
BEGIN:VALARM
ACTION:display
DESCRIPTION:Working with a deceiving dataset in 5 minutes
TRIGGER:-PT5M
END:VALARM
END:VEVENT
BEGIN:VEVENT
SUMMARY:Short break
DTSTART:20201023T113000Z
DTEND:20201023T114000Z
DTSTAMP:20260419T170650Z
UID:session/PzVmMtnMh4b5YXVRbUyVkR@hasgeek.com
SEQUENCE:0
CREATED:20201008T040011Z
DESCRIPTION:\n
LAST-MODIFIED:20201008T040018Z
LOCATION:Online
ORGANIZER;CN="Privacy Mode":MAILTO:no-reply@hasgeek.com
BEGIN:VALARM
ACTION:display
DESCRIPTION:Short break in 5 minutes
TRIGGER:-PT5M
END:VALARM
END:VEVENT
BEGIN:VEVENT
SUMMARY:Questions to investigate with Political Ads Datasets
DTSTART:20201023T114000Z
DTEND:20201023T122000Z
DTSTAMP:20260419T170650Z
UID:session/BEBLRX2YHq8qVjLfFkBWQA@hasgeek.com
SEQUENCE:1
CREATED:20201008T040111Z
DESCRIPTION:Along with participants\, pick up one or more of the following
  questions (or a question that participants contribute):\n- Finding ads vi
 olating silence periods\n- Comparing the ad spends of the biggest corporat
 e polluters against their investments\n- Calculating ad expenditure for th
 e previous week by ads created and ads seen\n
LAST-MODIFIED:20230108T103046Z
LOCATION:Online
ORGANIZER;CN="Privacy Mode":MAILTO:no-reply@hasgeek.com
BEGIN:VALARM
ACTION:display
DESCRIPTION:Questions to investigate with Political Ads Datasets in 5 minu
 tes
TRIGGER:-PT5M
END:VALARM
END:VEVENT
BEGIN:VEVENT
SUMMARY:Feedback\, summary and conclusion
DTSTART:20201023T122000Z
DTEND:20201023T123000Z
DTSTAMP:20260419T170650Z
UID:session/LQcxvEeV4BaXE8tYpSaema@hasgeek.com
SEQUENCE:0
CREATED:20201008T040132Z
DESCRIPTION:\n
LAST-MODIFIED:20201008T040135Z
LOCATION:Online
ORGANIZER;CN="Privacy Mode":MAILTO:no-reply@hasgeek.com
BEGIN:VALARM
ACTION:display
DESCRIPTION:Feedback\, summary and conclusion in 5 minutes
TRIGGER:-PT5M
END:VALARM
END:VEVENT
END:VCALENDAR
