BEGIN:VCALENDAR
VERSION:2.0
PRODID:-//HasGeek//NONSGML Funnel//EN
DESCRIPTION:Non-Personal Data Primer Series
X-WR-CALDESC:Non-Personal Data Primer Series
NAME:Impact of Non-Personal Data (NPD) framework on Engineering Processes
X-WR-CALNAME:Impact of Non-Personal Data (NPD) framework on Engineering Pr
 ocesses
REFRESH-INTERVAL;VALUE=DURATION:PT12H
SUMMARY:Impact of Non-Personal Data (NPD) framework on Engineering Process
 es
TIMEZONE-ID:Asia/Kolkata
X-PUBLISHED-TTL:PT12H
X-WR-TIMEZONE:Asia/Kolkata
BEGIN:VEVENT
SUMMARY:Overview of Non-Personal Data (NPD) framework
DTSTART:20201210T130000Z
DTEND:20201210T130500Z
DTSTAMP:20260419T184341Z
UID:session/NPB65e3MVE48yMcQf2TGgh@hasgeek.com
SEQUENCE:2
CREATED:20201125T112714Z
DESCRIPTION:In this talk\, Sathish K S gives an overview of the impact of 
 the Non-Personal Data framework on:\n\n1. Organizational processes - busin
 ess and engineering - and additional investments required.\n2. Level playi
 ng field between large and small companies. \n3. Every business turning in
 to a data business. \n\nSlides for this talk are published on: https://dri
 ve.google.com/file/d/1Gtb58KoEmfNjEMCZdgYv6uokfEC9OdZD/view?usp=sharing\n\
 n### Speaker bio\n\n[Sathish K S](https://www.linkedin.com/in/sathishks/) 
 is the Vice President of Engineering at Zeotap.\n
LAST-MODIFIED:20230810T072606Z
LOCATION:Online
ORGANIZER;CN="Privacy Mode":MAILTO:no-reply@hasgeek.com
URL:https://hasgeek.com/PrivacyMode/impact-of-non-personal-data-npd-framew
 ork-on-engineering-processes/schedule/overview-of-non-personal-data-npd-fr
 amework-NPB65e3MVE48yMcQf2TGgh
BEGIN:VALARM
ACTION:display
DESCRIPTION:Overview of Non-Personal Data (NPD) framework in 5 minutes
TRIGGER:-PT5M
END:VALARM
END:VEVENT
BEGIN:VEVENT
SUMMARY:A Primer on Non-Personal Data (NPD)
DTSTART:20201210T130500Z
DTEND:20201210T131000Z
DTSTAMP:20260419T184341Z
UID:session/FYosXYqQe9gnaoh9H4GAPM@hasgeek.com
SEQUENCE:2
CREATED:20201125T112809Z
DESCRIPTION:In this talk\, Sathish K S explains how data pipelines and dat
 a processing will be impacted under the Non-Personal Data framework with r
 egards to:\n\n1. Sourcing data\n2. Refining data\n3. Delivery of data \n\n
 Slides for this talk are published on: https://drive.google.com/file/d/1Gt
 b58KoEmfNjEMCZdgYv6uokfEC9OdZD/view?usp=sharing\n\n### Speaker bio\n\n[Sat
 hish K S](https://www.linkedin.com/in/sathishks/) is the Vice President of
  Engineering at Zeotap.\n
LAST-MODIFIED:20230810T072606Z
LOCATION:Online
ORGANIZER;CN="Privacy Mode":MAILTO:no-reply@hasgeek.com
URL:https://hasgeek.com/PrivacyMode/impact-of-non-personal-data-npd-framew
 ork-on-engineering-processes/schedule/a-primer-on-non-personal-data-npd-FY
 osXYqQe9gnaoh9H4GAPM
BEGIN:VALARM
ACTION:display
DESCRIPTION:A Primer on Non-Personal Data (NPD) in 5 minutes
TRIGGER:-PT5M
END:VALARM
END:VEVENT
BEGIN:VEVENT
SUMMARY:How raw and source data processing will change under Non-Personal 
 Data (NPD) framework
DTSTART:20201210T131000Z
DTEND:20201210T131500Z
DTSTAMP:20260419T184341Z
UID:session/N5brZGdp1kWBtQp4Q8QEzw@hasgeek.com
SEQUENCE:2
CREATED:20201125T112846Z
DESCRIPTION:In this talk\, Sathish K S explains how the proposed Non-Perso
 nal Data (NPD) framework impacts:\n\n1. Meta-data derivation from all the 
 datasets\n2. Raw data cataloging\n3. Refined data cataloging\n\nSlides for
  this talk are published on: https://drive.google.com/file/d/1Gtb58KoEmfNj
 EMCZdgYv6uokfEC9OdZD/view?usp=sharing\n\n### Speaker bio\n\n[Sathish K S](
 https://www.linkedin.com/in/sathishks/) is the Vice President of Engineeri
 ng at Zeotap.\n
LAST-MODIFIED:20230810T072606Z
LOCATION:Online
ORGANIZER;CN="Privacy Mode":MAILTO:no-reply@hasgeek.com
URL:https://hasgeek.com/PrivacyMode/impact-of-non-personal-data-npd-framew
 ork-on-engineering-processes/schedule/how-raw-and-source-data-processing-w
 ill-change-under-non-personal-data-npd-framework-N5brZGdp1kWBtQp4Q8QEzw
BEGIN:VALARM
ACTION:display
DESCRIPTION:How raw and source data processing will change under Non-Perso
 nal Data (NPD) framework in 5 minutes
TRIGGER:-PT5M
END:VALARM
END:VEVENT
BEGIN:VEVENT
SUMMARY:How data processing will change with Non-Personal Data framework
DTSTART:20201210T131500Z
DTEND:20201210T132000Z
DTSTAMP:20260419T184341Z
UID:session/GA7YViYhxiVTp49BK5qF9G@hasgeek.com
SEQUENCE:2
CREATED:20201125T113010Z
DESCRIPTION:In this talk\, Sathish K S explains what kind of demands will 
 be made on data held by organizations\, under the Non-Personal Data framew
 ork\, including:\n\n1. Aggregations and views - which will require additio
 nal processing.\n2. Meta data derivation.\n3. Running proper algorithms.\n
 \nSlides for this talk are published on: https://drive.google.com/file/d/1
 Gtb58KoEmfNjEMCZdgYv6uokfEC9OdZD/view?usp=sharing\n\n### Speaker bio\n\n[S
 athish K S](https://www.linkedin.com/in/sathishks/) is the Vice President 
 of Engineering at Zeotap.\n
LAST-MODIFIED:20230810T072606Z
LOCATION:Online
ORGANIZER;CN="Privacy Mode":MAILTO:no-reply@hasgeek.com
URL:https://hasgeek.com/PrivacyMode/impact-of-non-personal-data-npd-framew
 ork-on-engineering-processes/schedule/how-data-processing-will-change-with
 -non-personal-data-framework-GA7YViYhxiVTp49BK5qF9G
BEGIN:VALARM
ACTION:display
DESCRIPTION:How data processing will change with Non-Personal Data framewo
 rk in 5 minutes
TRIGGER:-PT5M
END:VALARM
END:VEVENT
BEGIN:VEVENT
SUMMARY:Data Quality Gaps in the Non-Personal Data framework
DTSTART:20201210T132000Z
DTEND:20201210T132500Z
DTSTAMP:20260419T184341Z
UID:session/X8iZihLUcP9fGa1eFcG6jC@hasgeek.com
SEQUENCE:2
CREATED:20201125T113114Z
DESCRIPTION:In this talk\, Sathish K S explains the gaps in data quality w
 hich the Non-Personal Data framework overlooks. Sathish explains the follo
 wing aspects of data quality:\n\n1. Ingress\, curation and egress.\n2. Dow
 ngrade performance.\n3. Increase unnecessary cost.\n4. Create any other ki
 nd of harm. \n\nSlides for this talk are published on: https://drive.googl
 e.com/file/d/1Gtb58KoEmfNjEMCZdgYv6uokfEC9OdZD/view?usp=sharing\n\n### Spe
 aker bio\n\n[Sathish K S](https://www.linkedin.com/in/sathishks/) is the V
 ice President of Engineering at Zeotap.\n
LAST-MODIFIED:20230810T072606Z
LOCATION:Online
ORGANIZER;CN="Privacy Mode":MAILTO:no-reply@hasgeek.com
URL:https://hasgeek.com/PrivacyMode/impact-of-non-personal-data-npd-framew
 ork-on-engineering-processes/schedule/data-quality-gaps-in-the-non-persona
 l-data-framework-X8iZihLUcP9fGa1eFcG6jC
BEGIN:VALARM
ACTION:display
DESCRIPTION:Data Quality Gaps in the Non-Personal Data framework in 5 minu
 tes
TRIGGER:-PT5M
END:VALARM
END:VEVENT
BEGIN:VEVENT
SUMMARY:Data security under the Non-Personal Data framework
DTSTART:20201210T132500Z
DTEND:20201210T133000Z
DTSTAMP:20260419T184341Z
UID:session/MEeD7hX7z5gQGSf7SSaoMN@hasgeek.com
SEQUENCE:2
CREATED:20201125T113209Z
DESCRIPTION:In this talk\, Sathish K S explains the gaps around data secur
 ity in the Non-Personal Data (NPD) framework. Specifically\, Sathish expla
 ins the following technical challenges:\n\n1. Data exchanges \n2. Access a
 nd encryption\n3. Key management\n\nSlides for this talk are published on:
  https://drive.google.com/file/d/1Gtb58KoEmfNjEMCZdgYv6uokfEC9OdZD/view?us
 p=sharing\n\n### Speaker bio\n\n[Sathish K S](https://www.linkedin.com/in/
 sathishks/) is the Vice President of Engineering at Zeotap.\n
LAST-MODIFIED:20230810T072606Z
LOCATION:Online
ORGANIZER;CN="Privacy Mode":MAILTO:no-reply@hasgeek.com
URL:https://hasgeek.com/PrivacyMode/impact-of-non-personal-data-npd-framew
 ork-on-engineering-processes/schedule/data-security-under-the-non-personal
 -data-framework-MEeD7hX7z5gQGSf7SSaoMN
BEGIN:VALARM
ACTION:display
DESCRIPTION:Data security under the Non-Personal Data framework in 5 minut
 es
TRIGGER:-PT5M
END:VALARM
END:VEVENT
BEGIN:VEVENT
SUMMARY:Intellectual Property Rights under Non-Personal Data
DTSTART:20201210T133000Z
DTEND:20201210T133500Z
DTSTAMP:20260419T184341Z
UID:session/9a8rBQruPLKW77bv5MQDd@hasgeek.com
SEQUENCE:2
CREATED:20201125T113258Z
DESCRIPTION:In this talk\, Sathish K S explains how the Non-Personal Data 
 framework fails to address patents protection when sharing data. \n\nSlide
 s for this talk are published on: https://drive.google.com/file/d/1Gtb58Ko
 EmfNjEMCZdgYv6uokfEC9OdZD/view?usp=sharing\n\n### Speaker bio\n\n[Sathish 
 K S](https://www.linkedin.com/in/sathishks/) is the Vice President of Engi
 neering at Zeotap.\n
LAST-MODIFIED:20230810T072606Z
LOCATION:Online
ORGANIZER;CN="Privacy Mode":MAILTO:no-reply@hasgeek.com
URL:https://hasgeek.com/PrivacyMode/impact-of-non-personal-data-npd-framew
 ork-on-engineering-processes/schedule/intellectual-property-rights-under-n
 on-personal-data-9a8rBQruPLKW77bv5MQDd
BEGIN:VALARM
ACTION:display
DESCRIPTION:Intellectual Property Rights under Non-Personal Data in 5 minu
 tes
TRIGGER:-PT5M
END:VALARM
END:VEVENT
BEGIN:VEVENT
SUMMARY:Changes to Data Operations under Non-Personal Data framework
DTSTART:20201210T133500Z
DTEND:20201210T134000Z
DTSTAMP:20260419T184341Z
UID:session/F8wPo2X6C8eXHdNG24RyBD@hasgeek.com
SEQUENCE:2
CREATED:20201125T113342Z
DESCRIPTION:In this talk\, Sathish K S explains the impact on monitoring a
 nd alerting systems\, and customer support for additional consumers under 
 the proposed Non-Personal Data (NPD) framework. \n\nSlides for this talk a
 re published on: https://drive.google.com/file/d/1Gtb58KoEmfNjEMCZdgYv6uok
 fEC9OdZD/view?usp=sharing\n\n### Speaker bio\n\n[Sathish K S](https://www.
 linkedin.com/in/sathishks/) is the Vice President of Engineering at Zeotap
 .\n
LAST-MODIFIED:20230810T072606Z
LOCATION:Online
ORGANIZER;CN="Privacy Mode":MAILTO:no-reply@hasgeek.com
URL:https://hasgeek.com/PrivacyMode/impact-of-non-personal-data-npd-framew
 ork-on-engineering-processes/schedule/changes-to-data-operations-under-non
 -personal-data-framework-F8wPo2X6C8eXHdNG24RyBD
BEGIN:VALARM
ACTION:display
DESCRIPTION:Changes to Data Operations under Non-Personal Data framework i
 n 5 minutes
TRIGGER:-PT5M
END:VALARM
END:VEVENT
BEGIN:VEVENT
SUMMARY:Data pricing under the Non-Personal Data framework
DTSTART:20201210T134000Z
DTEND:20201210T134500Z
DTSTAMP:20260419T184341Z
UID:session/RGwExL4cjRyjxBGcix4dZu@hasgeek.com
SEQUENCE:2
CREATED:20201125T113426Z
DESCRIPTION:In this talk\, Sathish K S explains the gaps in unit pricing\,
  SLAs and re-selling datasets under the Non-Personal Data (NPD) framework.
  \n\nSlides for this talk are published on: https://drive.google.com/file/
 d/1Gtb58KoEmfNjEMCZdgYv6uokfEC9OdZD/view?usp=sharing\n\n### Speaker bio\n\
 n[Sathish K S](https://www.linkedin.com/in/sathishks/) is the Vice Preside
 nt of Engineering at Zeotap.\n
LAST-MODIFIED:20230810T072606Z
LOCATION:Online
ORGANIZER;CN="Privacy Mode":MAILTO:no-reply@hasgeek.com
URL:https://hasgeek.com/PrivacyMode/impact-of-non-personal-data-npd-framew
 ork-on-engineering-processes/schedule/data-pricing-under-the-non-personal-
 data-framework-RGwExL4cjRyjxBGcix4dZu
BEGIN:VALARM
ACTION:display
DESCRIPTION:Data pricing under the Non-Personal Data framework in 5 minute
 s
TRIGGER:-PT5M
END:VALARM
END:VEVENT
BEGIN:VEVENT
SUMMARY:Compliance overheads under Non-Personal Data
DTSTART:20201210T134500Z
DTEND:20201210T135000Z
DTSTAMP:20260419T184341Z
UID:session/BqGMcsRR7cTAkspRPc49Hj@hasgeek.com
SEQUENCE:2
CREATED:20201125T113516Z
DESCRIPTION:In this talk\, Sathish K S explains costs pertaining to: \n\n1
 . Data processing\n2. Additional pipelines \n3. Transfer costs \n4. Encryp
 tion \n5. Algorithms that will be run on large datasets \n\nas overheads u
 nder the proposed Non-Personal Data (NPD) framework. \n\nSlides for this t
 alk are published on: https://drive.google.com/file/d/1Gtb58KoEmfNjEMCZdgY
 v6uokfEC9OdZD/view?usp=sharing\n\n### Speaker bio\n\n[Sathish K S](https:/
 /www.linkedin.com/in/sathishks/) is the Vice President of Engineering at Z
 eotap.\n
LAST-MODIFIED:20230810T072606Z
LOCATION:Online
ORGANIZER;CN="Privacy Mode":MAILTO:no-reply@hasgeek.com
URL:https://hasgeek.com/PrivacyMode/impact-of-non-personal-data-npd-framew
 ork-on-engineering-processes/schedule/compliance-overheads-under-non-perso
 nal-data-BqGMcsRR7cTAkspRPc49Hj
BEGIN:VALARM
ACTION:display
DESCRIPTION:Compliance overheads under Non-Personal Data in 5 minutes
TRIGGER:-PT5M
END:VALARM
END:VEVENT
BEGIN:VEVENT
SUMMARY:Data auditing process under Non-Personal Data
DTSTART:20201210T135000Z
DTEND:20201210T135500Z
DTSTAMP:20260419T184341Z
UID:session/HgmR5GFgFGosbt2PPX3ZBx@hasgeek.com
SEQUENCE:2
CREATED:20201125T113538Z
DESCRIPTION:In this talk\, Sathish K S concludes analysis of the impact of
  Non-Personal Data (NPD) on engineering\, referring to:\n\n1. Data pricing
 \n2. Onus of Audit\n3. Anonymization challenges\n\nSlides for this talk ar
 e published on: https://drive.google.com/file/d/1Gtb58KoEmfNjEMCZdgYv6uokf
 EC9OdZD/view?usp=sharing\n\n### Speaker bio\n\n[Sathish K S](https://www.l
 inkedin.com/in/sathishks/) is the Vice President of Engineering at Zeotap.
 \n
LAST-MODIFIED:20230810T072606Z
LOCATION:Online
ORGANIZER;CN="Privacy Mode":MAILTO:no-reply@hasgeek.com
URL:https://hasgeek.com/PrivacyMode/impact-of-non-personal-data-npd-framew
 ork-on-engineering-processes/schedule/data-auditing-process-under-non-pers
 onal-data-HgmR5GFgFGosbt2PPX3ZBx
BEGIN:VALARM
ACTION:display
DESCRIPTION:Data auditing process under Non-Personal Data in 5 minutes
TRIGGER:-PT5M
END:VALARM
END:VEVENT
END:VCALENDAR
