BEGIN:VCALENDAR
VERSION:2.0
PRODID:-//HasGeek//NONSGML Funnel//EN
DESCRIPTION:Examining the draft Bill to provide for the processing of digi
 tal personal data
X-WR-CALDESC:Examining the draft Bill to provide for the processing of dig
 ital personal data
NAME:The Digital Personal Data Protection Bill\, 2022
X-WR-CALNAME:The Digital Personal Data Protection Bill\, 2022
REFRESH-INTERVAL;VALUE=DURATION:PT12H
SUMMARY:The Digital Personal Data Protection Bill\, 2022
TIMEZONE-ID:Asia/Kolkata
X-PUBLISHED-TTL:PT12H
X-WR-TIMEZONE:Asia/Kolkata
BEGIN:VEVENT
SUMMARY:Decoding the digital personal data protection bill - techno-legal 
 implications
DTSTART:20221121T133000Z
DTEND:20221121T142000Z
DTSTAMP:20260419T180501Z
UID:session/FHaNVJRo3NKavTXxv1PBLy@hasgeek.com
SEQUENCE:6
CREATED:20221118T101438Z
DESCRIPTION:The draft Digital Personal Data Protection Bill 2022 has been 
 annouced by the Government of India and is likely to be introduced in the 
 parliament for the upcoming budget session. This session looks into detail
 s of the new draft Bill and how it regulates various aspects of the econom
 y & society. \n\nJoin via Twitter Spaces - https://twitter.com/i/spaces/1g
 qxvyWvPvRJB
LAST-MODIFIED:20230108T103046Z
LOCATION:Online
ORGANIZER;CN="Privacy Mode":MAILTO:no-reply@hasgeek.com
BEGIN:VALARM
ACTION:display
DESCRIPTION:Decoding the digital personal data protection bill - techno-le
 gal implications in 5 minutes
TRIGGER:-PT5M
END:VALARM
END:VEVENT
END:VCALENDAR
