BEGIN:VCALENDAR
VERSION:2.0
PRODID:-//HasGeek//NONSGML Funnel//EN
DESCRIPTION:All about being a well-rounded engineer and engineering leader
 .
X-WR-CALDESC:All about being a well-rounded engineer and engineering leade
 r.
NAME:Birds of a Feather (BoF) with Swanand and SVS
X-WR-CALNAME:Birds of a Feather (BoF) with Swanand and SVS
REFRESH-INTERVAL;VALUE=DURATION:PT12H
SUMMARY:Birds of a Feather (BoF) with Swanand and SVS
TIMEZONE-ID:Asia/Kolkata
X-PUBLISHED-TTL:PT12H
X-WR-TIMEZONE:Asia/Kolkata
BEGIN:VEVENT
SUMMARY:Birds of a Feather (BoF) with Swanand and SVS
DTSTART:20240820T113000Z
DTEND:20240820T133000Z
DTSTAMP:20260421T094103Z
UID:session/Y1ScoBhJQAVPavebKEdvjc@hasgeek.com
SEQUENCE:18
CREATED:20240728T140716Z
DESCRIPTION:Here's your chance to ask anything about being a well-rounded 
 engineer and a great engineering leader to [Swanand Pagnis](https://x.com/
 _swanand) and [Siddarth Sharma](https://x.com/_svs_) (SVS on Twitter)\n\nT
 his is a casual AMA and discussion. The goal is to learn together\, talk t
 o other fellow engineers\, and discuss our approaches around:\n\n- The mea
 ning of a well-rounded engineer\n- Traits of a good engineering leader and
  how to become one\n- and much more...\n\nEnjoy these conversations with a
  hot cuppa tea and some special samosa during the best rainy weather in Pu
 ne. :-)\n\n(Limited seats)\n\n# Who should attend?\n\n- You are an enginee
 r or engineering leader.\n- You care for your craft\, and you want to get 
 better at it.\n- You understand that being an outstanding IC requires soft
  skills and business skills\, and that being an outstanding Eng Leader req
 uires hard skills.\n\n# What you should do if and when you register?\n\nGr
 eat! You've pressed the 'Register' button! But what's an AMA without great
  questions?\n\nTake 10 minutes\, and think about your career and aspiratio
 ns. Think about that geeky friend who grins when faced with a hard program
 ming problem. Think about that mentor who changed your life by giving you 
 the right nudge at the right time! Do you have questions about how to go f
 rom where you are to where they are? Do you want a roadmap to get there?\n
 \nWrite your questions in [the comments section](https://hasgeek.com/One2N
 /bof-with-swanand-and-svs/comments). Be as specific or generic as you'd li
 ke\, read through other questions that have been asked and comment on them
  if you want to "vote them up". If you want to be anonymous\, DM your ques
 tions to me @vedang on Twitter\, and I will post them on your behalf!\n\nL
 et's spark some excellent conversation at the One2N office!
LAST-MODIFIED:20240803T130627Z
LOCATION:Pune - https://hasgeek.com/One2N/bof-with-swanand-and-svs/
ORGANIZER;CN=One2N:MAILTO:no-reply@hasgeek.com
URL:https://hasgeek.com/One2N/bof-with-swanand-and-svs/
BEGIN:VALARM
ACTION:display
DESCRIPTION:Birds of a Feather (BoF) with Swanand and SVS in 5 minutes
TRIGGER:-PT5M
END:VALARM
END:VEVENT
END:VCALENDAR
