BEGIN:VCALENDAR
VERSION:2.0
PRODID:-//HasGeek//NONSGML Funnel//EN
DESCRIPTION:Unpacking RBI's policy paper on authorizing retail payment sys
 tems
X-WR-CALDESC:Unpacking RBI's policy paper on authorizing retail payment sy
 stems
NAME:Discussion on RBIs Policy Paper on Authorisation of New Retail Paymen
 t Systems
X-WR-CALNAME:Discussion on RBIs Policy Paper on Authorisation of New Retai
 l Payment Systems
REFRESH-INTERVAL;VALUE=DURATION:PT12H
SUMMARY:Discussion on RBIs Policy Paper on Authorisation of New Retail Pay
 ment Systems
TIMEZONE-ID:Asia/Kolkata
X-PUBLISHED-TTL:PT12H
X-WR-TIMEZONE:Asia/Kolkata
BEGIN:VEVENT
SUMMARY:Discussion
DTSTART:20190215T130000Z
DTEND:20190215T143500Z
DTSTAMP:20260419T170910Z
UID:session/JCRoYGU4MQiUa9J9jiXHBF@hasgeek.com
SEQUENCE:0
CREATED:20190213T085541Z
DESCRIPTION:\n
LAST-MODIFIED:20190213T085541Z
LOCATION:Bangalore
ORGANIZER;CN=50p:MAILTO:no-reply@hasgeek.com
BEGIN:VALARM
ACTION:display
DESCRIPTION:Discussion in 5 minutes
TRIGGER:-PT5M
END:VALARM
END:VEVENT
END:VCALENDAR
