BEGIN:VCALENDAR
VERSION:2.0
PRODID:-//HasGeek//NONSGML Funnel//EN
DESCRIPTION:Building reliable payment systems and services
X-WR-CALDESC:Building reliable payment systems and services
NAME:Building reliable payment systems and services
X-WR-CALNAME:Building reliable payment systems and services
REFRESH-INTERVAL;VALUE=DURATION:PT12H
SUMMARY:Building reliable payment systems and services
TIMEZONE-ID:Asia/Kolkata
X-PUBLISHED-TTL:PT12H
X-WR-TIMEZONE:Asia/Kolkata
BEGIN:VEVENT
SUMMARY:Check-in and registration
DTSTART:20170708T040000Z
DTEND:20170708T043000Z
DTSTAMP:20260421T032854Z
UID:session/4NzhwyaAy2DEmikQQHhhgM@hasgeek.com
SEQUENCE:0
CREATED:20170616T070607Z
DESCRIPTION:\n
LAST-MODIFIED:20170706T031751Z
LOCATION:Mumbai
ORGANIZER;CN=50p:MAILTO:no-reply@hasgeek.com
BEGIN:VALARM
ACTION:display
DESCRIPTION:Check-in and registration in 5 minutes
TRIGGER:-PT5M
END:VALARM
END:VEVENT
BEGIN:VEVENT
SUMMARY:Introduction to 50p Mumbai\, curators and collaborators
DTSTART:20170708T043000Z
DTEND:20170708T044500Z
DTSTAMP:20260421T032854Z
UID:session/HqrGSESxxpEAQd8Q8fZVfz@hasgeek.com
SEQUENCE:0
CREATED:20170616T070647Z
DESCRIPTION:\n
LAST-MODIFIED:20170706T031753Z
LOCATION:Auditorium - Vidyalankar School Of Information Technology \nMumba
 i\nIN
ORGANIZER;CN=50p:MAILTO:no-reply@hasgeek.com
BEGIN:VALARM
ACTION:display
DESCRIPTION:Introduction to 50p Mumbai\, curators and collaborators in Aud
 itorium in 5 minutes
TRIGGER:-PT5M
END:VALARM
END:VEVENT
BEGIN:VEVENT
SUMMARY:Panel discussion on "UPI: a year in review"
DTSTART:20170708T044500Z
DTEND:20170708T060000Z
DTSTAMP:20260421T032854Z
UID:session/4CSWjgzdoT1jvDwiegfCAB@hasgeek.com
SEQUENCE:2
CREATED:20170616T070817Z
DESCRIPTION:\n\n### Speaker bio\n\nhttps://www.linkedin.com/in/suprita-sar
 kar-a8b4a16/\nhttps://www.linkedin.com/in/adityasengupta/\nhttps://www.lin
 kedin.com/in/sudhakarram/\nhttps://www.linkedin.com/in/arundhati-ramanatha
 n-3ba24810/\n
LAST-MODIFIED:20230810T072606Z
LOCATION:Auditorium - Vidyalankar School Of Information Technology \nMumba
 i\nIN
ORGANIZER;CN=50p:MAILTO:no-reply@hasgeek.com
BEGIN:VALARM
ACTION:display
DESCRIPTION:Panel discussion on "UPI: a year in review" in Auditorium in 5
  minutes
TRIGGER:-PT5M
END:VALARM
END:VEVENT
BEGIN:VEVENT
SUMMARY:Tea break
DTSTART:20170708T060000Z
DTEND:20170708T061500Z
DTSTAMP:20260421T032854Z
UID:session/NCGKP1LJ23E1auV6JxoEj8@hasgeek.com
SEQUENCE:0
CREATED:20170616T070857Z
DESCRIPTION:\n
LAST-MODIFIED:20170706T031800Z
LOCATION:Mumbai
ORGANIZER;CN=50p:MAILTO:no-reply@hasgeek.com
BEGIN:VALARM
ACTION:display
DESCRIPTION:Tea break in 5 minutes
TRIGGER:-PT5M
END:VALARM
END:VEVENT
BEGIN:VEVENT
SUMMARY:BharatQR: is it addressing the real Bharat?
DTSTART:20170708T061500Z
DTEND:20170708T070000Z
DTSTAMP:20260421T032854Z
UID:session/FFGSoojhyuvyehEki4jkdc@hasgeek.com
SEQUENCE:2
CATEGORIES:Advanced
CREATED:20170706T031349Z
DESCRIPTION:\n\n### Speaker bio\n\nhttps://www.linkedin.com/in/madhusudana
 n-r-82178b7/\n
LAST-MODIFIED:20230810T072606Z
LOCATION:Auditorium - Vidyalankar School Of Information Technology \nMumba
 i\nIN
ORGANIZER;CN=50p:MAILTO:no-reply@hasgeek.com
URL:https://hasgeek.com/50p/building-reliable-payment-systems-2017/schedul
 e/bharatqr-is-it-addressing-the-real-bharat-FFGSoojhyuvyehEki4jkdc
BEGIN:VALARM
ACTION:display
DESCRIPTION:BharatQR: is it addressing the real Bharat? in Auditorium in 5
  minutes
TRIGGER:-PT5M
END:VALARM
END:VEVENT
BEGIN:VEVENT
SUMMARY:Building two-sided marketplaces for greater digital adoption – t
 he case of Go-Pay in Indonesia
DTSTART:20170708T070000Z
DTEND:20170708T074500Z
DTSTAMP:20260421T032854Z
UID:session/AHUTYrbPP8HtbZ7FNYb6PZ@hasgeek.com
SEQUENCE:2
CREATED:20170706T031731Z
DESCRIPTION:\n\n### Speaker bio\n\nhttps://www.linkedin.com/in/niranjangp/
 \n
LAST-MODIFIED:20230810T072606Z
LOCATION:Auditorium - Vidyalankar School Of Information Technology \nMumba
 i\nIN
ORGANIZER;CN=50p:MAILTO:no-reply@hasgeek.com
BEGIN:VALARM
ACTION:display
DESCRIPTION:Building two-sided marketplaces for greater digital adoption 
 – the case of Go-Pay in Indonesia in Auditorium in 5 minutes
TRIGGER:-PT5M
END:VALARM
END:VEVENT
BEGIN:VEVENT
SUMMARY:Lunch
DTSTART:20170708T074500Z
DTEND:20170708T084500Z
DTSTAMP:20260421T032854Z
UID:session/L56ktpt9uF2PN8D33pnCEc@hasgeek.com
SEQUENCE:0
CREATED:20170616T071036Z
DESCRIPTION:\n
LAST-MODIFIED:20170706T032021Z
LOCATION:Mumbai
ORGANIZER;CN=50p:MAILTO:no-reply@hasgeek.com
BEGIN:VALARM
ACTION:display
DESCRIPTION:Lunch in 5 minutes
TRIGGER:-PT5M
END:VALARM
END:VEVENT
BEGIN:VEVENT
SUMMARY:Blockchain: the promise of trust and decentralization in payments
DTSTART:20170708T084500Z
DTEND:20170708T091500Z
DTSTAMP:20260421T032854Z
UID:session/7Z4zkaVzdrC5z77mrK9ULF@hasgeek.com
SEQUENCE:2
CREATED:20170616T071155Z
DESCRIPTION:\n\n### Speaker bio\n\nhttps://www.linkedin.com/in/bensonsamue
 l/?ppe=1\n
LAST-MODIFIED:20230810T072606Z
LOCATION:Auditorium - Vidyalankar School Of Information Technology \nMumba
 i\nIN
ORGANIZER;CN=50p:MAILTO:no-reply@hasgeek.com
BEGIN:VALARM
ACTION:display
DESCRIPTION:Blockchain: the promise of trust and decentralization in payme
 nts in Auditorium in 5 minutes
TRIGGER:-PT5M
END:VALARM
END:VEVENT
BEGIN:VEVENT
SUMMARY:You don't need blockchain
DTSTART:20170708T091500Z
DTEND:20170708T093500Z
DTSTAMP:20260421T032854Z
UID:session/TJJuKbggKbUSgDQPTgt7g4@hasgeek.com
SEQUENCE:2
CREATED:20170616T071253Z
DESCRIPTION:The talk can be summarized by the image in this tweet: https:/
 /twitter.com/disruptepreneur/status/755857596423077888\n\nIf you are a ban
 k or a FinTech company not dealing with bitcoins or ether\, you don’t ne
 ed blockchain*. The talk will go over the details of when you should consi
 der blockchains and when you are better off without them.\n\n* - Condition
 s Apply\n\n### Speaker bio\n\nI do tech and security at Razorpay. I’ve w
 orn lots of hats at Razorpay\, where I’ve managed to learn a lot about p
 ayments within India. https://captnemo.in/\n
LAST-MODIFIED:20230810T072606Z
LOCATION:Auditorium - Vidyalankar School Of Information Technology \nMumba
 i\nIN
ORGANIZER;CN=50p:MAILTO:no-reply@hasgeek.com
BEGIN:VALARM
ACTION:display
DESCRIPTION:You don't need blockchain in Auditorium in 5 minutes
TRIGGER:-PT5M
END:VALARM
END:VEVENT
BEGIN:VEVENT
SUMMARY:Q&A on Blockchain
DTSTART:20170708T093500Z
DTEND:20170708T095000Z
DTSTAMP:20260421T032854Z
UID:session/MuQit688m4WPLaFkUYio4@hasgeek.com
SEQUENCE:0
CREATED:20170616T071343Z
DESCRIPTION:\n
LAST-MODIFIED:20170706T032131Z
LOCATION:Auditorium - Vidyalankar School Of Information Technology \nMumba
 i\nIN
ORGANIZER;CN=50p:MAILTO:no-reply@hasgeek.com
BEGIN:VALARM
ACTION:display
DESCRIPTION:Q&A on Blockchain in Auditorium in 5 minutes
TRIGGER:-PT5M
END:VALARM
END:VEVENT
BEGIN:VEVENT
SUMMARY:Stretch break
DTSTART:20170708T095000Z
DTEND:20170708T095500Z
DTSTAMP:20260421T032854Z
UID:session/TVxQhaFkYeKR8bKsvSgdbV@hasgeek.com
SEQUENCE:0
CREATED:20170706T032236Z
DESCRIPTION:\n
LAST-MODIFIED:20170706T032236Z
LOCATION:Auditorium - Vidyalankar School Of Information Technology \nMumba
 i\nIN
ORGANIZER;CN=50p:MAILTO:no-reply@hasgeek.com
BEGIN:VALARM
ACTION:display
DESCRIPTION:Stretch break in Auditorium in 5 minutes
TRIGGER:-PT5M
END:VALARM
END:VEVENT
BEGIN:VEVENT
SUMMARY:Digital payments and grievance redressal:  what are the challenges
  from consumers' perspective
DTSTART:20170708T095500Z
DTEND:20170708T104000Z
DTSTAMP:20260421T032854Z
UID:session/WJEyPqrTTvMntLttt9Fr1Z@hasgeek.com
SEQUENCE:2
CREATED:20170706T032407Z
DESCRIPTION:\n\n### Speaker bio\n\nhttps://www.linkedin.com/in/amol-kulkar
 ni-0463bbb9/?ppe=1\n
LAST-MODIFIED:20230810T072606Z
LOCATION:Auditorium - Vidyalankar School Of Information Technology \nMumba
 i\nIN
ORGANIZER;CN=50p:MAILTO:no-reply@hasgeek.com
BEGIN:VALARM
ACTION:display
DESCRIPTION:Digital payments and grievance redressal:  what are the challe
 nges from consumers' perspective in Auditorium in 5 minutes
TRIGGER:-PT5M
END:VALARM
END:VEVENT
BEGIN:VEVENT
SUMMARY:Beverage break
DTSTART:20170708T104000Z
DTEND:20170708T111000Z
DTSTAMP:20260421T032854Z
UID:session/Q74hwjp7esLzST98bdWt5m@hasgeek.com
SEQUENCE:0
CREATED:20170616T071429Z
DESCRIPTION:\n
LAST-MODIFIED:20170706T032417Z
LOCATION:Mumbai
ORGANIZER;CN=50p:MAILTO:no-reply@hasgeek.com
BEGIN:VALARM
ACTION:display
DESCRIPTION:Beverage break in 5 minutes
TRIGGER:-PT5M
END:VALARM
END:VEVENT
BEGIN:VEVENT
SUMMARY:Digital payments and grievance redressal: why open data is the ant
 idote?
DTSTART:20170708T111000Z
DTEND:20170708T114000Z
DTSTAMP:20260421T032854Z
UID:session/CrYbQM6RDkgoAta3Attdmg@hasgeek.com
SEQUENCE:2
CREATED:20170706T032631Z
DESCRIPTION:\n\n### Speaker bio\n\nhttps://www.linkedin.com/in/srikanthlak
 shmanan/\n
LAST-MODIFIED:20230810T072606Z
LOCATION:Auditorium - Vidyalankar School Of Information Technology \nMumba
 i\nIN
ORGANIZER;CN=50p:MAILTO:no-reply@hasgeek.com
BEGIN:VALARM
ACTION:display
DESCRIPTION:Digital payments and grievance redressal: why open data is the
  antidote? in Auditorium in 5 minutes
TRIGGER:-PT5M
END:VALARM
END:VEVENT
BEGIN:VEVENT
SUMMARY:Flash talks: 5-minute presentations from the audience
DTSTART:20170708T114000Z
DTEND:20170708T121000Z
DTSTAMP:20260421T032854Z
UID:session/PGu6hPFfb841QB7VNisMEs@hasgeek.com
SEQUENCE:0
CREATED:20170706T032703Z
DESCRIPTION:\n
LAST-MODIFIED:20170706T032709Z
LOCATION:Auditorium - Vidyalankar School Of Information Technology \nMumba
 i\nIN
ORGANIZER;CN=50p:MAILTO:no-reply@hasgeek.com
BEGIN:VALARM
ACTION:display
DESCRIPTION:Flash talks: 5-minute presentations from the audience in Audit
 orium in 5 minutes
TRIGGER:-PT5M
END:VALARM
END:VEVENT
BEGIN:VEVENT
SUMMARY:Closing and thank you
DTSTART:20170708T121000Z
DTEND:20170708T122500Z
DTSTAMP:20260421T032854Z
UID:session/EbpYNzf2ukt4DkKqZvMfLK@hasgeek.com
SEQUENCE:0
CREATED:20170616T071513Z
DESCRIPTION:\n
LAST-MODIFIED:20170706T032718Z
LOCATION:Auditorium - Vidyalankar School Of Information Technology \nMumba
 i\nIN
ORGANIZER;CN=50p:MAILTO:no-reply@hasgeek.com
BEGIN:VALARM
ACTION:display
DESCRIPTION:Closing and thank you in Auditorium in 5 minutes
TRIGGER:-PT5M
END:VALARM
END:VEVENT
END:VCALENDAR
