BEGIN:VCALENDAR
VERSION:2.0
PRODID:-//HasGeek//NONSGML Funnel//EN
DESCRIPTION:A meetup on the design process in payment apps and tracking co
 nversions.
X-WR-CALDESC:A meetup on the design process in payment apps and tracking c
 onversions.
NAME:Zone Startups FinTech Friday
X-WR-CALNAME:Zone Startups FinTech Friday
REFRESH-INTERVAL;VALUE=DURATION:PT12H
SUMMARY:Zone Startups FinTech Friday
TIMEZONE-ID:Asia/Kolkata
X-PUBLISHED-TTL:PT12H
X-WR-TIMEZONE:Asia/Kolkata
BEGIN:VEVENT
SUMMARY:Zone Startups FinTech Friday
DTSTART:20170217T043000Z
DTEND:20170217T053000Z
DTSTAMP:20260419T170649Z
UID:session/MtVAmJFaNvBoS1xEk3G6Fb@hasgeek.com
SEQUENCE:0
CREATED:20190626T105258Z
DESCRIPTION:\n
GEO:12.95996886348385;77.6433849334717
LAST-MODIFIED:20190626T105258Z
LOCATION:Workshop Room - Diamond District\,\nIN
ORGANIZER;CN=50p:MAILTO:no-reply@hasgeek.com
BEGIN:VALARM
ACTION:display
DESCRIPTION:Zone Startups FinTech Friday in Workshop Room in 5 minutes
TRIGGER:-PT5M
END:VALARM
END:VEVENT
END:VCALENDAR
